BEGIN:VCALENDAR
VERSION:2.0
PRODID:-//DINAS TENAGA KERJA - ECPv6.15.11//NONSGML v1.0//EN
CALSCALE:GREGORIAN
METHOD:PUBLISH
X-WR-CALNAME:DINAS TENAGA KERJA
X-ORIGINAL-URL:https://disnaker.slemankab.go.id
X-WR-CALDESC:Events for DINAS TENAGA KERJA
REFRESH-INTERVAL;VALUE=DURATION:PT1H
X-Robots-Tag:noindex
X-PUBLISHED-TTL:PT1H
BEGIN:VTIMEZONE
TZID:Asia/Krasnoyarsk
BEGIN:STANDARD
TZOFFSETFROM:+0700
TZOFFSETTO:+0700
TZNAME:+07
DTSTART:20220101T000000
END:STANDARD
END:VTIMEZONE
BEGIN:VEVENT
DTSTART;TZID=Asia/Krasnoyarsk:20231127T130000
DTEND;TZID=Asia/Krasnoyarsk:20231127T170000
DTSTAMP:20260424T231856
CREATED:20240109T010750Z
LAST-MODIFIED:20240109T010750Z
UID:16084-1701090000-1701104400@disnaker.slemankab.go.id
SUMMARY:Memberikan Sambutan Selamat datang pada acara Temu Karya Mutu & Produktivitas Nasional XXXVII-2023 di Hotel Alana
DESCRIPTION:Memberikan Sambutan Selamat datang pada acara Temu Karya Mutu & Produktivitas Nasional XXXVII-2023 di Hotel Alana
URL:https://disnaker.slemankab.go.id/event/memberikan-sambutan-selamat-datang-pada-acara-temu-karya-mutu-produktivitas-nasional-xxxvii-2023-di-hotel-alana/
END:VEVENT
BEGIN:VEVENT
DTSTART;TZID=Asia/Krasnoyarsk:20231122T100000
DTEND;TZID=Asia/Krasnoyarsk:20231122T130000
DTSTAMP:20260424T231856
CREATED:20240105T071029Z
LAST-MODIFIED:20240105T071029Z
UID:16075-1700647200-1700658000@disnaker.slemankab.go.id
SUMMARY:Sidang Dewan Pengupahan di RR Sadewa lantai III
DESCRIPTION:Sidang Dewan Pengupahan di RR Sadewa lantai III
URL:https://disnaker.slemankab.go.id/event/sidang-dewan-pengupahan-di-rr-sadewa-lantai-iii/
END:VEVENT
BEGIN:VEVENT
DTSTART;TZID=Asia/Krasnoyarsk:20231121T083000
DTEND;TZID=Asia/Krasnoyarsk:20231121T130000
DTSTAMP:20260424T231856
CREATED:20240105T070924Z
LAST-MODIFIED:20240105T070924Z
UID:16073-1700555400-1700571600@disnaker.slemankab.go.id
SUMMARY:Workshop “Atasi Aduan dengan Benar\, SP4N-Lapor! Makin Tenar di Restoran Taman Pringsewu
DESCRIPTION:Workshop “Atasi Aduan dengan Benar\, SP4N-Lapor! Makin Tenar di Restoran Taman Pringsewu
URL:https://disnaker.slemankab.go.id/event/workshop-atasi-aduan-dengan-benar-sp4n-lapor-makin-tenar-di-restoran-taman-pringsewu/
END:VEVENT
BEGIN:VEVENT
DTSTART;TZID=Asia/Krasnoyarsk:20231115T090000
DTEND;TZID=Asia/Krasnoyarsk:20231115T130000
DTSTAMP:20260424T231856
CREATED:20240105T070758Z
LAST-MODIFIED:20240105T070758Z
UID:16071-1700038800-1700053200@disnaker.slemankab.go.id
SUMMARY:Pembinaan Coaching Tenaga Kerja Mandiri di RR Srikandi lantai I
DESCRIPTION:Pembinaan Coaching Tenaga Kerja Mandiri di RR Srikandi lantai I
URL:https://disnaker.slemankab.go.id/event/pembinaan-coaching-tenaga-kerja-mandiri-di-rr-srikandi-lantai-i/
END:VEVENT
BEGIN:VEVENT
DTSTART;TZID=Asia/Krasnoyarsk:20231113T080000
DTEND;TZID=Asia/Krasnoyarsk:20231113T170000
DTSTAMP:20260424T231856
CREATED:20240105T070704Z
LAST-MODIFIED:20240105T070704Z
UID:16068-1699862400-1699894800@disnaker.slemankab.go.id
SUMMARY:Rekruitmen Indomaret di Aula Nakula lantai III Dinas Tenaga Kerja 
DESCRIPTION:Rekruitmen Indomaret di Aula Nakula lantai III Dinas Tenaga Kerja 
URL:https://disnaker.slemankab.go.id/event/rekruitmen-indomaret-di-aula-nakula-lantai-iii-dinas-tenaga-kerja/
END:VEVENT
BEGIN:VEVENT
DTSTART;TZID=Asia/Krasnoyarsk:20231108T090000
DTEND;TZID=Asia/Krasnoyarsk:20231108T130000
DTSTAMP:20260424T231856
CREATED:20240105T070539Z
LAST-MODIFIED:20240105T070539Z
UID:16066-1699434000-1699448400@disnaker.slemankab.go.id
SUMMARY:Rapat Koordinasi Transmigrasi se- D.I.Yogyakarta di Kebon Ndhelik Bausasran
DESCRIPTION:Rapat Koordinasi Transmigrasi se- D.I.Yogyakarta di Kebon Ndhelik Bausasran
URL:https://disnaker.slemankab.go.id/event/rapat-koordinasi-transmigrasi-se-d-i-yogyakarta-di-kebon-ndhelik-bausasran/
END:VEVENT
BEGIN:VEVENT
DTSTART;TZID=Asia/Krasnoyarsk:20231106T090000
DTEND;TZID=Asia/Krasnoyarsk:20231106T120000
DTSTAMP:20260424T231856
CREATED:20240105T070225Z
LAST-MODIFIED:20240105T070225Z
UID:16063-1699261200-1699272000@disnaker.slemankab.go.id
SUMMARY:Rapat Koordinasi persiapan kegiatan Forum Pembinaan perusahaan pengguna TKA dan evaluasi kegiatan Bidang PP s/d Oktober 2023 di RR Puntodewo lantai II
DESCRIPTION:Rapat Koordinasi persiapan kegiatan Forum Pembinaan perusahaan pengguna TKA dan evaluasi kegiatan Bidang PP s/d Oktober 2023 di RR Puntodewo lantai II
URL:https://disnaker.slemankab.go.id/event/rapat-koordinasi-persiapan-kegiatan-forum-pembinaan-perusahaan-pengguna-tka-dan-evaluasi-kegiatan-bidang-pp-s-d-oktober-2023-di-rr-puntodewo-lantai-ii/
END:VEVENT
BEGIN:VEVENT
DTSTART;TZID=Asia/Krasnoyarsk:20231103T080000
DTEND;TZID=Asia/Krasnoyarsk:20231103T170000
DTSTAMP:20260424T231856
CREATED:20240105T062200Z
LAST-MODIFIED:20240105T062200Z
UID:16060-1698998400-1699030800@disnaker.slemankab.go.id
SUMMARY:Undangan sebagai narasumber kegiatan Tracer Study di Ruang COE SMK Ma’arif 2
DESCRIPTION:Undangan sebagai narasumber kegiatan Tracer Study di Ruang COE SMK Ma’arif 2
URL:https://disnaker.slemankab.go.id/event/undangan-sebagai-narasumber-kegiatan-tracer-study-di-ruang-coe-smk-maarif-2-2/
END:VEVENT
BEGIN:VEVENT
DTSTART;TZID=Asia/Krasnoyarsk:20231102T120000
DTEND;TZID=Asia/Krasnoyarsk:20231102T140000
DTSTAMP:20260424T231856
CREATED:20240105T033956Z
LAST-MODIFIED:20240105T062511Z
UID:16058-1698926400-1698933600@disnaker.slemankab.go.id
SUMMARY:31 Years Anniversary PDAM Tirta Sembada di Gedung Graha Sarina Vidi
DESCRIPTION:31 Years Anniversary PDAM Tirta Sembada di Gedung Graha Sarina Vidi
URL:https://disnaker.slemankab.go.id/event/undangan-sebagai-narasumber-kegiatan-tracer-study-di-ruang-coe-smk-maarif-2/
END:VEVENT
BEGIN:VEVENT
DTSTART;TZID=Asia/Krasnoyarsk:20231031T120000
DTEND;TZID=Asia/Krasnoyarsk:20231031T170000
DTSTAMP:20260424T231856
CREATED:20240105T033742Z
LAST-MODIFIED:20240105T033758Z
UID:16056-1698753600-1698771600@disnaker.slemankab.go.id
SUMMARY:Sosialisasi padat karya BKK Tahap III di Klaci 2\, Margoluwih\, Sayegan
DESCRIPTION:Sosialisasi padat karya BKK Tahap III di Klaci 2\, Margoluwih\, Sayegan
URL:https://disnaker.slemankab.go.id/event/sosialisasi-padat-karya-bkk-tahap-iii-di-klaci-2-margoluwih-sayegan/
END:VEVENT
BEGIN:VEVENT
DTSTART;TZID=Asia/Krasnoyarsk:20231031T090000
DTEND;TZID=Asia/Krasnoyarsk:20231031T140000
DTSTAMP:20260424T231856
CREATED:20240105T033408Z
LAST-MODIFIED:20240105T033408Z
UID:16054-1698742800-1698760800@disnaker.slemankab.go.id
SUMMARY:Sosialisasi padat karya BKK Tahap III di Nogotirto Gamping
DESCRIPTION:Sosialisasi padat karya BKK Tahap III di Nogotirto Gamping
URL:https://disnaker.slemankab.go.id/event/sosialisasi-padat-karya-bkk-tahap-iii-di-nogotirto-gamping/
END:VEVENT
BEGIN:VEVENT
DTSTART;TZID=Asia/Krasnoyarsk:20231030T080000
DTEND;TZID=Asia/Krasnoyarsk:20231030T170000
DTSTAMP:20260424T231856
CREATED:20240105T033005Z
LAST-MODIFIED:20240105T033005Z
UID:16052-1698652800-1698685200@disnaker.slemankab.go.id
SUMMARY:Test Alfamart di RR Sadewa lantai III Disnaker sleman
DESCRIPTION:Test Alfamart di RR Sadewa lantai III Disnaker sleman
URL:https://disnaker.slemankab.go.id/event/test-alfamart-di-rr-sadewa-lantai-iii-disnaker-sleman-2/
END:VEVENT
BEGIN:VEVENT
DTSTART;TZID=Asia/Krasnoyarsk:20231027T070000
DTEND;TZID=Asia/Krasnoyarsk:20231027T110000
DTSTAMP:20260424T231856
CREATED:20240105T032809Z
LAST-MODIFIED:20240105T032809Z
UID:16050-1698390000-1698404400@disnaker.slemankab.go.id
SUMMARY:Senam Bangkit dan Zumba Bareng & Pemeriksaan Kesehatan di Lapangan Pemda
DESCRIPTION:Senam Bangkit dan Zumba Bareng & Pemeriksaan Kesehatan di Lapangan Pemda
URL:https://disnaker.slemankab.go.id/event/senam-bangkit-dan-zumba-bareng-pemeriksaan-kesehatan-di-lapangan-pemda/
END:VEVENT
BEGIN:VEVENT
DTSTART;TZID=Asia/Krasnoyarsk:20231026T080000
DTEND;TZID=Asia/Krasnoyarsk:20231026T170000
DTSTAMP:20260424T231856
CREATED:20240105T032317Z
LAST-MODIFIED:20240105T032317Z
UID:16047-1698307200-1698339600@disnaker.slemankab.go.id
SUMMARY:Rekrutment Indomaret di RR Sadewa lantai III Disnaker Sleman
DESCRIPTION:Rekrutment Indomaret di RR Sadewa lantai III Disnaker Sleman
URL:https://disnaker.slemankab.go.id/event/rekrutment-indomaret-di-rr-sadewa-lantai-iii-disnaker-sleman/
END:VEVENT
BEGIN:VEVENT
DTSTART;TZID=Asia/Krasnoyarsk:20231026T080000
DTEND;TZID=Asia/Krasnoyarsk:20231026T130000
DTSTAMP:20260424T231856
CREATED:20240105T030943Z
LAST-MODIFIED:20240105T030943Z
UID:16045-1698307200-1698325200@disnaker.slemankab.go.id
SUMMARY:Pembukaan Job dan Edufair di SMK Muhammadiyah Prambanan
DESCRIPTION:Pembukaan Job dan Edufair di SMK Muhammadiyah Prambanan
URL:https://disnaker.slemankab.go.id/event/pembukaan-job-dan-edufair-di-smk-muhammadiyah-prambanan/
END:VEVENT
BEGIN:VEVENT
DTSTART;TZID=Asia/Krasnoyarsk:20231025T083000
DTEND;TZID=Asia/Krasnoyarsk:20231025T130000
DTSTAMP:20260424T231856
CREATED:20240105T025452Z
LAST-MODIFIED:20240105T025452Z
UID:16043-1698222600-1698238800@disnaker.slemankab.go.id
SUMMARY:Workshop Keterbukaan Informasi Publik dan Evaluasi Monev Tahun 2023 di Dinas Komunikasi dan Informatika
DESCRIPTION:Workshop Keterbukaan Informasi Publik dan Evaluasi Monev Tahun 2023 di Dinas Komunikasi dan Informatika
URL:https://disnaker.slemankab.go.id/event/workshop-keterbukaan-informasi-publik-dan-evaluasi-monev-tahun-2023-di-dinas-komunikasi-dan-informatika/
END:VEVENT
BEGIN:VEVENT
DTSTART;TZID=Asia/Krasnoyarsk:20231024T100000
DTEND;TZID=Asia/Krasnoyarsk:20231024T140000
DTSTAMP:20260424T231856
CREATED:20240105T024435Z
LAST-MODIFIED:20240105T024435Z
UID:16041-1698141600-1698156000@disnaker.slemankab.go.id
SUMMARY:Narasumber Workshop BKK di Lab AKL SMK YPKK 2 Sleman
DESCRIPTION:Narasumber Workshop BKK di Lab AKL SMK YPKK 2 Sleman
URL:https://disnaker.slemankab.go.id/event/narasumber-workshop-bkk-di-lab-akl-smk-ypkk-2-sleman/
END:VEVENT
BEGIN:VEVENT
DTSTART;TZID=Asia/Krasnoyarsk:20231020T080000
DTEND;TZID=Asia/Krasnoyarsk:20231020T130000
DTSTAMP:20260424T231856
CREATED:20240105T023735Z
LAST-MODIFIED:20240105T023735Z
UID:16039-1697788800-1697806800@disnaker.slemankab.go.id
SUMMARY:Narasumber kegiatan Talk Show di Aula SMKN 1 Depok
DESCRIPTION:Narasumber kegiatan Talk Show di Aula SMKN 1 Depok
URL:https://disnaker.slemankab.go.id/event/narasumber-kegiatan-talk-show-di-aula-smkn-1-depok/
END:VEVENT
BEGIN:VEVENT
DTSTART;TZID=Asia/Krasnoyarsk:20231018T100000
DTEND;TZID=Asia/Krasnoyarsk:20231018T100000
DTSTAMP:20260424T231856
CREATED:20240105T023416Z
LAST-MODIFIED:20240105T023416Z
UID:16037-1697623200-1697623200@disnaker.slemankab.go.id
SUMMARY:Narasumber Workshop Penguatan Kelembagaan BKK di Ruang Pertemuan SMK Ma’arif 2 Sleman
DESCRIPTION:Narasumber Workshop Penguatan Kelembagaan BKK di Ruang Pertemuan SMK Ma’arif 2 Sleman
URL:https://disnaker.slemankab.go.id/event/narasumber-workshop-penguatan-kelembagaan-bkk-di-ruang-pertemuan-smk-maarif-2-sleman/
END:VEVENT
BEGIN:VEVENT
DTSTART;TZID=Asia/Krasnoyarsk:20231017T080000
DTEND;TZID=Asia/Krasnoyarsk:20231017T160000
DTSTAMP:20260424T231856
CREATED:20240105T023229Z
LAST-MODIFIED:20240105T023229Z
UID:16035-1697529600-1697558400@disnaker.slemankab.go.id
SUMMARY:Rakor Updating data Ketenagakerjaan di Aula Nakula lantai 3 Disnaker Sleman
DESCRIPTION:Rakor Updating data Ketenagakerjaan di Aula Nakula lantai 3 Disnaker Sleman
URL:https://disnaker.slemankab.go.id/event/rakor-updating-data-ketenagakerjaan-di-aula-nakula-lantai-3-disnaker-sleman/
END:VEVENT
BEGIN:VEVENT
DTSTART;TZID=Asia/Krasnoyarsk:20231016T080000
DTEND;TZID=Asia/Krasnoyarsk:20231016T170000
DTSTAMP:20260424T231856
CREATED:20240105T023108Z
LAST-MODIFIED:20240105T023108Z
UID:16033-1697443200-1697475600@disnaker.slemankab.go.id
SUMMARY:Test Alfamart di RR Sadewa lantai III Disnaker Sleman
DESCRIPTION:Test Alfamart di RR Sadewa lantai III Disnaker Sleman
URL:https://disnaker.slemankab.go.id/event/test-alfamart-di-rr-sadewa-lantai-iii-disnaker-sleman/
END:VEVENT
BEGIN:VEVENT
DTSTART;TZID=Asia/Krasnoyarsk:20231013T083000
DTEND;TZID=Asia/Krasnoyarsk:20231013T143000
DTSTAMP:20260424T231856
CREATED:20240104T074139Z
LAST-MODIFIED:20240104T074139Z
UID:16031-1697185800-1697207400@disnaker.slemankab.go.id
SUMMARY:Pembekalan Akhir Catrans di RM Puri Mataram
DESCRIPTION:Pembekalan Akhir Catrans di RM Puri Mataram
URL:https://disnaker.slemankab.go.id/event/pembekalan-akhir-catrans-di-rm-puri-mataram/
END:VEVENT
BEGIN:VEVENT
DTSTART;TZID=Asia/Krasnoyarsk:20231012T090000
DTEND;TZID=Asia/Krasnoyarsk:20231012T170000
DTSTAMP:20260424T231856
CREATED:20240104T073712Z
LAST-MODIFIED:20240104T073857Z
UID:16028-1697101200-1697130000@disnaker.slemankab.go.id
SUMMARY:Seleksi Calon transmigrasi di Aula Nakula lantai III Disnaker Sleman
DESCRIPTION:Seleksi Calon transmigrasi di Aula Nakula lantai III Disnaker Sleman
URL:https://disnaker.slemankab.go.id/event/seleksi-calon-transmigrasi-di-aula-nakula-lantai-iii-disnaker-sleman/
END:VEVENT
BEGIN:VEVENT
DTSTART;TZID=Asia/Krasnoyarsk:20231011T130000
DTEND;TZID=Asia/Krasnoyarsk:20231011T170000
DTSTAMP:20260424T231856
CREATED:20240104T071614Z
LAST-MODIFIED:20240104T071614Z
UID:16026-1697029200-1697043600@disnaker.slemankab.go.id
SUMMARY:Narasumber Workshop Tracer Study di SMKN 1 Depok
DESCRIPTION:Narasumber Workshop Tracer Study di SMKN 1 Depok
URL:https://disnaker.slemankab.go.id/event/narasumber-workshop-tracer-study-di-smkn-1-depok/
END:VEVENT
BEGIN:VEVENT
DTSTART;TZID=Asia/Krasnoyarsk:20231009T090000
DTEND;TZID=Asia/Krasnoyarsk:20231009T120000
DTSTAMP:20260424T231856
CREATED:20231006T053009Z
LAST-MODIFIED:20231006T053009Z
UID:15688-1696842000-1696852800@disnaker.slemankab.go.id
SUMMARY:Tes Seleksi Alfamart
DESCRIPTION:Tes Seleksi/Walk In Interview Alfamart \n\nSenin\, 9 Oktober 2023\nPukul 09.00 s.d. 12.00 WIB\nRuang Sadewa\, Lantai 3 Disnaker Sleman\n\nSyarat dan ketentuan cek poster
URL:https://disnaker.slemankab.go.id/event/tes-seleksi-alfamart/
END:VEVENT
BEGIN:VEVENT
DTSTART;TZID=Asia/Krasnoyarsk:20230913T090000
DTEND;TZID=Asia/Krasnoyarsk:20230913T120000
DTSTAMP:20260424T231856
CREATED:20230911T134535Z
LAST-MODIFIED:20230911T134535Z
UID:15579-1694595600-1694606400@disnaker.slemankab.go.id
SUMMARY:
DESCRIPTION:Tes Seleksi/Walk In Interview PT Indomarco Prismatama (Indomaret) untuk posisi Store Crew Boy dan Store Crew Girl. Rekanaker yang berminat dapat mendaftarkan diri dan melengkapi berkas sesuai persyaratan
URL:https://disnaker.slemankab.go.id/event/15579/
LOCATION:Ruang Sadewa Disnaker Sleman
END:VEVENT
BEGIN:VEVENT
DTSTART;TZID=Asia/Krasnoyarsk:20230822T090000
DTEND;TZID=Asia/Krasnoyarsk:20230822T230000
DTSTAMP:20260424T231856
CREATED:20230821T073139Z
LAST-MODIFIED:20230821T073139Z
UID:15480-1692694800-1692745200@disnaker.slemankab.go.id
SUMMARY:Tes Seleksi/Walk in Interview PT Indomarco Prismatama (Indomaret) Klaten
DESCRIPTION:Seleksi PT Indomarco Prismatama (Indomaret) Klaten untuk posisi Store Crew Boy dan Girl\, \nRuang Sadewa Lantai 3 Disnaker Sleman \n09.00 s.d. 12.00 WIB \n 
URL:https://disnaker.slemankab.go.id/event/tes-seleksi-walk-in-interview-pt-indomarco-prismatama-indomaret-klaten/
LOCATION:Ruang Sadewa Disnaker Sleman
END:VEVENT
BEGIN:VEVENT
DTSTART;TZID=Asia/Krasnoyarsk:20230721T080000
DTEND;TZID=Asia/Krasnoyarsk:20230721T170000
DTSTAMP:20260424T231856
CREATED:20230721T005252Z
LAST-MODIFIED:20230721T005613Z
UID:15305-1689926400-1689958800@disnaker.slemankab.go.id
SUMMARY:JobFair dalam acara Amikom Career Fair di Sahid Raya hotel Babarsari
DESCRIPTION:JobFair dalam acara Amikom Career Fair di Sahid Raya hotel Babarsari
URL:https://disnaker.slemankab.go.id/event/jobfair-dalam-acara-amikom-career-fair-di-sahid-jaya-hotel-babarsari/
END:VEVENT
BEGIN:VEVENT
DTSTART;TZID=Asia/Krasnoyarsk:20230720T080000
DTEND;TZID=Asia/Krasnoyarsk:20230720T170000
DTSTAMP:20260424T231856
CREATED:20230721T005325Z
LAST-MODIFIED:20230721T005634Z
UID:15307-1689840000-1689872400@disnaker.slemankab.go.id
SUMMARY:JobFair dalam acara Amikom Career Fair di Sahid Raya hotel Babarsari
DESCRIPTION:JobFair dalam acara Amikom Career Fair di Sahid Raya hotel Babarsari
URL:https://disnaker.slemankab.go.id/event/jobfair-dalam-acara-amikom-career-fair-di-sahid-jaya-hotel-babarsari-2/
END:VEVENT
BEGIN:VEVENT
DTSTART;TZID=Asia/Krasnoyarsk:20230704T100000
DTEND;TZID=Asia/Krasnoyarsk:20230704T120000
DTSTAMP:20260424T231856
CREATED:20230703T091411Z
LAST-MODIFIED:20230703T091411Z
UID:15247-1688464800-1688472000@disnaker.slemankab.go.id
SUMMARY:Pembukaan Pelatihan Tata Rias Program JPS Tahun 2023 di LPK Mahkota Bina Karya
DESCRIPTION:Pembukaan Pelatihan Tata Rias Program JPS Tahun 2023 di LPK Mahkota Bina Karya
URL:https://disnaker.slemankab.go.id/event/pembukaan-pelatihan-tata-rias-program-jps-tahun-2023-di-lpk-mahkota-bina-karya/
END:VEVENT
END:VCALENDAR