BEGIN:VCALENDAR
VERSION:2.0
PRODID:-//DINAS TENAGA KERJA - ECPv6.15.11//NONSGML v1.0//EN
CALSCALE:GREGORIAN
METHOD:PUBLISH
X-WR-CALNAME:DINAS TENAGA KERJA
X-ORIGINAL-URL:https://disnaker.slemankab.go.id
X-WR-CALDESC:Events for DINAS TENAGA KERJA
REFRESH-INTERVAL;VALUE=DURATION:PT1H
X-Robots-Tag:noindex
X-PUBLISHED-TTL:PT1H
BEGIN:VTIMEZONE
TZID:Asia/Krasnoyarsk
BEGIN:STANDARD
TZOFFSETFROM:+0700
TZOFFSETTO:+0700
TZNAME:+07
DTSTART:20240101T000000
END:STANDARD
END:VTIMEZONE
BEGIN:VEVENT
DTSTART;TZID=Asia/Krasnoyarsk:20251227T080000
DTEND;TZID=Asia/Krasnoyarsk:20251227T170000
DTSTAMP:20260424T165615
CREATED:20251223T072731Z
LAST-MODIFIED:20251223T072731Z
UID:19964-1766822400-1766854800@disnaker.slemankab.go.id
SUMMARY:Fasilitasi TAKSI Pekerja di Lantai 2 Gd Mall Pelayanan Publik
DESCRIPTION:Fasilitasi TAKSI Pekerja di Lantai 2 Gd Mall Pelayanan Publik
URL:https://disnaker.slemankab.go.id/event/fasilitasi-taksi-pekerja-di-lantai-2-gd-mall-pelayanan-publik/
END:VEVENT
BEGIN:VEVENT
DTSTART;TZID=Asia/Krasnoyarsk:20251229T090000
DTEND;TZID=Asia/Krasnoyarsk:20251229T113000
DTSTAMP:20260424T165615
CREATED:20251223T071258Z
LAST-MODIFIED:20251223T071258Z
UID:19954-1766998800-1767007800@disnaker.slemankab.go.id
SUMMARY:Penutupan Pelatihan dana DBHCHT Kejuruan MUA dan Tata Boga di PT Sata Jaya Sejahtera\, Cebongan Lor
DESCRIPTION:Penutupan Pelatihan dana DBHCHT Kejuruan MUA dan Tata Boga di PT Sata Jaya Sejahtera\, Cebongan Lor
URL:https://disnaker.slemankab.go.id/event/penutupan-pelatihan-dana-dbhcht-kejuruan-mua-dan-tata-boga-di-pt-sata-jaya-sejahtera-cebongan-lor/
END:VEVENT
END:VCALENDAR