BEGIN:VCALENDAR
VERSION:2.0
PRODID:-//DINAS TENAGA KERJA - ECPv6.15.11//NONSGML v1.0//EN
CALSCALE:GREGORIAN
METHOD:PUBLISH
X-WR-CALNAME:DINAS TENAGA KERJA
X-ORIGINAL-URL:https://disnaker.slemankab.go.id
X-WR-CALDESC:Events for DINAS TENAGA KERJA
REFRESH-INTERVAL;VALUE=DURATION:PT1H
X-Robots-Tag:noindex
X-PUBLISHED-TTL:PT1H
BEGIN:VTIMEZONE
TZID:Asia/Krasnoyarsk
BEGIN:STANDARD
TZOFFSETFROM:+0700
TZOFFSETTO:+0700
TZNAME:+07
DTSTART:20220101T000000
END:STANDARD
END:VTIMEZONE
BEGIN:VEVENT
DTSTART;TZID=Asia/Krasnoyarsk:20240201T080000
DTEND;TZID=Asia/Krasnoyarsk:20240201T170000
DTSTAMP:20260424T102313
CREATED:20240207T011528Z
LAST-MODIFIED:20240207T011528Z
UID:16267-1706774400-1706806800@disnaker.slemankab.go.id
SUMMARY:Musrenbang RKPD Usulan tahun 2025 di Kapanewon Seyegan\, Mlati\, Minggir\, Ngaglik
DESCRIPTION:Musrenbang RKPD Usulan tahun 2025 di Kapanewon Seyegan\, Mlati\, Minggir\, Ngaglik
URL:https://disnaker.slemankab.go.id/event/musrenbang-rkpd-usulan-tahun-2025-di-kapanewon-seyegan-mlati-minggir-ngaglik/
END:VEVENT
BEGIN:VEVENT
DTSTART;TZID=Asia/Krasnoyarsk:20240131T080000
DTEND;TZID=Asia/Krasnoyarsk:20240131T170000
DTSTAMP:20260424T102313
CREATED:20240207T011335Z
LAST-MODIFIED:20240207T011335Z
UID:16265-1706688000-1706720400@disnaker.slemankab.go.id
SUMMARY:Musrenbang RKPD di Kapanewon Depok\, Gamping\, dan Moyudan
DESCRIPTION:Musrenbang RKPD di Kapanewon Depok\, Gamping\, dan Moyudan
URL:https://disnaker.slemankab.go.id/event/musrenbang-rkpd-di-kapanewon-depok-gamping-dan-moyudan/
END:VEVENT
BEGIN:VEVENT
DTSTART;TZID=Asia/Krasnoyarsk:20240130T080000
DTEND;TZID=Asia/Krasnoyarsk:20240130T170000
DTSTAMP:20260424T102313
CREATED:20240207T011159Z
LAST-MODIFIED:20240207T011159Z
UID:16262-1706601600-1706634000@disnaker.slemankab.go.id
SUMMARY:Musrenbang di Kapanewon Cangkringan\, Ngemplak\, pakem\, dan kalasan 
DESCRIPTION:Musrenbang di Kapanewon Cangkringan\, Ngemplak\, pakem\, dan kalasan 
URL:https://disnaker.slemankab.go.id/event/musrenbang-di-kapanewon-cangkringan-ngemplak-pakem-dan-kalasan/
END:VEVENT
BEGIN:VEVENT
DTSTART;TZID=Asia/Krasnoyarsk:20240126T090000
DTEND;TZID=Asia/Krasnoyarsk:20240126T130000
DTSTAMP:20260424T102313
CREATED:20240207T010935Z
LAST-MODIFIED:20240207T010935Z
UID:16260-1706259600-1706274000@disnaker.slemankab.go.id
SUMMARY:Pembukaan Pelatihan menjahit busana wanita tahun 2024 di LPK Anindita Sejahtera\, Sidoluhur Godean
DESCRIPTION:Pembukaan Pelatihan menjahit busana wanita tahun 2024 di LPK Anindita Sejahtera\, Sidoluhur Godean
URL:https://disnaker.slemankab.go.id/event/pembukaan-pelatihan-menjahit-busana-wanita-tahun-2024-di-lpk-anindita-sejahtera-sidoluhur-godean/
END:VEVENT
BEGIN:VEVENT
DTSTART;TZID=Asia/Krasnoyarsk:20240125T090000
DTEND;TZID=Asia/Krasnoyarsk:20240125T130000
DTSTAMP:20260424T102313
CREATED:20240207T010847Z
LAST-MODIFIED:20240207T010847Z
UID:16258-1706173200-1706187600@disnaker.slemankab.go.id
SUMMARY:Memberikan sambutan pada Pembukaan Pelatihan menjahit busana wanita tahun 2024 di LPK Menjahit Indonesia
DESCRIPTION:Memberikan sambutan pada Pembukaan Pelatihan menjahit busana wanita tahun 2024 di LPK Menjahit Indonesia
URL:https://disnaker.slemankab.go.id/event/memberikan-sambutan-pada-pembukaan-pelatihan-menjahit-busana-wanita-tahun-2024-di-lpk-menjahit-indonesia/
END:VEVENT
BEGIN:VEVENT
DTSTART;TZID=Asia/Krasnoyarsk:20240124T083000
DTEND;TZID=Asia/Krasnoyarsk:20240124T130000
DTSTAMP:20260424T102313
CREATED:20240207T010717Z
LAST-MODIFIED:20240207T010717Z
UID:16256-1706085000-1706101200@disnaker.slemankab.go.id
SUMMARY:Pembinaan LPK Tahun 2024 di LPK JTTC
DESCRIPTION:Pembinaan LPK Tahun 2024 di LPK JTTC
URL:https://disnaker.slemankab.go.id/event/pembinaan-lpk-tahun-2024-di-lpk-jttc/
END:VEVENT
BEGIN:VEVENT
DTSTART;TZID=Asia/Krasnoyarsk:20240123T090000
DTEND;TZID=Asia/Krasnoyarsk:20240123T130000
DTSTAMP:20260424T102313
CREATED:20240123T010855Z
LAST-MODIFIED:20240123T010855Z
UID:16160-1706000400-1706014800@disnaker.slemankab.go.id
SUMMARY:Sosialisasi pelaksanaan dan pencatatan PKWT di Aula Nakula Dinas Tenaga Kerja 
DESCRIPTION:Sosialisasi pelaksanaan dan pencatatan PKWT di Aula Nakula Dinas Tenaga Kerja 
URL:https://disnaker.slemankab.go.id/event/sosialisasi-pelaksanaan-dan-pencatatan-pkwt-di-aula-nakula-dinas-tenaga-kerja/
END:VEVENT
BEGIN:VEVENT
DTSTART;TZID=Asia/Krasnoyarsk:20240123T080000
DTEND;TZID=Asia/Krasnoyarsk:20240123T120000
DTSTAMP:20260424T102313
CREATED:20240123T010805Z
LAST-MODIFIED:20240123T010805Z
UID:16158-1705996800-1706011200@disnaker.slemankab.go.id
SUMMARY:Undangan Jogja Business Matching di Ballroom Sahid Raya Hotel
DESCRIPTION:Undangan Jogja Business Matching di Ballroom Sahid Raya Hotel
URL:https://disnaker.slemankab.go.id/event/undangan-jogja-business-matching-di-ballroom-sahid-raya-hotel/
END:VEVENT
BEGIN:VEVENT
DTSTART;TZID=Asia/Krasnoyarsk:20240122T090000
DTEND;TZID=Asia/Krasnoyarsk:20240122T120000
DTSTAMP:20260424T102313
CREATED:20240123T010638Z
LAST-MODIFIED:20240123T010638Z
UID:16156-1705914000-1705924800@disnaker.slemankab.go.id
SUMMARY:Mengikuti Diskusi dengan tim Design mission untuk inisiasi YESS-SI oleh IFAD dalam rangka meningkatkan produktivitas dan daya saing sektor pertanian di Politeknik Pembangunan Pertaninan YK-Magelang\, jalan Kusumanegara No 2 Umbulharjo
DESCRIPTION:Mengikuti Diskusi dengan tim Design mission untuk inisiasi YESS-SI oleh IFAD dalam rangka meningkatkan produktivitas dan daya saing sektor pertanian di Politeknik Pembangunan Pertaninan YK-Magelang\, jalan Kusumanegara No 2 Umbulharjo
URL:https://disnaker.slemankab.go.id/event/mengikuti-diskusi-dengan-tim-design-mission-untuk-inisiasi-yess-si-oleh-ifad-dalam-rangka-meningkatkan-produktivitas-dan-daya-saing-sektor-pertanian-di-politeknik-pembangunan-pertaninan-yk-magelang-j/
END:VEVENT
BEGIN:VEVENT
DTSTART;TZID=Asia/Krasnoyarsk:20240122T080000
DTEND;TZID=Asia/Krasnoyarsk:20240122T170000
DTSTAMP:20260424T102313
CREATED:20240123T010330Z
LAST-MODIFIED:20240123T010347Z
UID:16154-1705910400-1705942800@disnaker.slemankab.go.id
SUMMARY:Test Indomaret di Aula Nakula 
DESCRIPTION:Test Indomaret di Aula Nakula 
URL:https://disnaker.slemankab.go.id/event/test-indomaret-di-aula-nakula/
END:VEVENT
BEGIN:VEVENT
DTSTART;TZID=Asia/Krasnoyarsk:20240119T133000
DTEND;TZID=Asia/Krasnoyarsk:20240119T150000
DTSTAMP:20260424T102313
CREATED:20240123T010232Z
LAST-MODIFIED:20240123T010232Z
UID:16152-1705671000-1705676400@disnaker.slemankab.go.id
SUMMARY:Tindak lanjut Rapat Koordinasi Seleksi Terbuka Terbatas Calon Desa/Kalurahan Mandiri Budaya (DMB) Tahun 2024 di R.R Rukun Dinas Kebudayaan Sleman
DESCRIPTION:Tindak lanjut Rapat Koordinasi Seleksi Terbuka Terbatas Calon Desa/Kalurahan Mandiri Budaya (DMB) Tahun 2024 di R.R Rukun Dinas Kebudayaan Sleman
URL:https://disnaker.slemankab.go.id/event/tindak-lanjut-rapat-koordinasi-seleksi-terbuka-terbatas-calon-desa-kalurahan-mandiri-budaya-dmb-tahun-2024-di-r-r-rukun-dinas-kebudayaan-sleman/
END:VEVENT
BEGIN:VEVENT
DTSTART;TZID=Asia/Krasnoyarsk:20240118T123000
DTEND;TZID=Asia/Krasnoyarsk:20240118T150000
DTSTAMP:20260424T102314
CREATED:20240123T010127Z
LAST-MODIFIED:20240123T010127Z
UID:16150-1705581000-1705590000@disnaker.slemankab.go.id
SUMMARY:Workshop Tatacara Kerjasama Daerah di Aula Lt. 3 Setda
DESCRIPTION:Workshop Tatacara Kerjasama Daerah di Aula Lt. 3 Setda
URL:https://disnaker.slemankab.go.id/event/workshop-tatacara-kerjasama-daerah-di-aula-lt-3-setda/
END:VEVENT
BEGIN:VEVENT
DTSTART;TZID=Asia/Krasnoyarsk:20240117T080000
DTEND;TZID=Asia/Krasnoyarsk:20240117T123000
DTSTAMP:20260424T102314
CREATED:20240117T023600Z
LAST-MODIFIED:20240117T030932Z
UID:16136-1705478400-1705494600@disnaker.slemankab.go.id
SUMMARY:Menghadiri HUT dan Career Day di SMK Penerbangan AAG Adisutjipto
DESCRIPTION:Menghadiri HUT dan Career Day di SMK Penerbangan AAG Adisutjipto
URL:https://disnaker.slemankab.go.id/event/menghadiri-hut-dan-career-day-di-smk-penerbangan-aag-adisutjipto/
END:VEVENT
BEGIN:VEVENT
DTSTART;TZID=Asia/Krasnoyarsk:20240116T100000
DTEND;TZID=Asia/Krasnoyarsk:20240116T170000
DTSTAMP:20260424T102314
CREATED:20240116T035524Z
LAST-MODIFIED:20240116T035524Z
UID:16132-1705399200-1705424400@disnaker.slemankab.go.id
SUMMARY:Rekruitment PT MMI di aula Nakula Disnaker 
DESCRIPTION:Rekruitment PT MMI di aula Nakula Disnaker 
URL:https://disnaker.slemankab.go.id/event/rekruitment-pt-mmi-di-aula-nakula-disnaker/
END:VEVENT
BEGIN:VEVENT
DTSTART;TZID=Asia/Krasnoyarsk:20240116T100000
DTEND;TZID=Asia/Krasnoyarsk:20240116T130000
DTSTAMP:20260424T102314
CREATED:20240116T035709Z
LAST-MODIFIED:20240116T035709Z
UID:16134-1705399200-1705410000@disnaker.slemankab.go.id
SUMMARY:Rapat Koordinasi Perlindungan Jamsostek bagi pekerja rentan melalui partisipasi ASN di Ruang Sadewa Disnaker Sleman
DESCRIPTION:Rapat Koordinasi Perlindungan Jamsostek bagi pekerja rentan melalui partisipasi ASN di Ruang Sadewa Disnaker Sleman
URL:https://disnaker.slemankab.go.id/event/rapat-koordinasi-perlindungan-jamsostek-bagi-pekerja-rentan-melalui-partisipasi-asn-di-ruang-sadewa-disnaker-sleman/
END:VEVENT
BEGIN:VEVENT
DTSTART;TZID=Asia/Krasnoyarsk:20240112T080000
DTEND;TZID=Asia/Krasnoyarsk:20240112T170000
DTSTAMP:20260424T102314
CREATED:20240112T013721Z
LAST-MODIFIED:20240112T013822Z
UID:16127-1705046400-1705078800@disnaker.slemankab.go.id
SUMMARY:Test Indomaret di Aula Nakula lantai III Disnaker
DESCRIPTION:Test Indomaret di Aula Nakula lantai III Disnaker
URL:https://disnaker.slemankab.go.id/event/test-indomaret-di-aula-nakula-lantai-iii-disnaker/
END:VEVENT
BEGIN:VEVENT
DTSTART;TZID=Asia/Krasnoyarsk:20240111T130000
DTEND;TZID=Asia/Krasnoyarsk:20240111T170000
DTSTAMP:20260424T102314
CREATED:20240112T013632Z
LAST-MODIFIED:20240112T013632Z
UID:16125-1704978000-1704992400@disnaker.slemankab.go.id
SUMMARY:Rapat Persiapan Pembinaan LPK di RR Sadewa Disnaker
DESCRIPTION:Rapat Persiapan Pembinaan LPK di RR Sadewa Disnaker
URL:https://disnaker.slemankab.go.id/event/rapat-persiapan-pembinaan-lpk-di-rr-sadewa-disnaker/
END:VEVENT
BEGIN:VEVENT
DTSTART;TZID=Asia/Krasnoyarsk:20240111T100000
DTEND;TZID=Asia/Krasnoyarsk:20240111T130000
DTSTAMP:20260424T102314
CREATED:20240112T013440Z
LAST-MODIFIED:20240112T013440Z
UID:16123-1704967200-1704978000@disnaker.slemankab.go.id
SUMMARY:Rakor Implementasi Kebijakan Kesejahteraan Pekerja di RR Puntodewo Disnaker 
DESCRIPTION:Rakor Implementasi Kebijakan Kesejahteraan Pekerja di RR Puntodewo Disnaker 
URL:https://disnaker.slemankab.go.id/event/rakor-implementasi-kebijakan-kesejahteraan-pekerja-di-rr-puntodewo-disnaker/
END:VEVENT
BEGIN:VEVENT
DTSTART;TZID=Asia/Krasnoyarsk:20240109T080000
DTEND;TZID=Asia/Krasnoyarsk:20240109T170000
DTSTAMP:20260424T102314
CREATED:20240109T010056Z
LAST-MODIFIED:20240109T010056Z
UID:16082-1704787200-1704819600@disnaker.slemankab.go.id
SUMMARY:Test Indomaret di Aula Nakula lantai 3 Disnaker Sleman
DESCRIPTION:Test Indomaret di Aula Nakula lantai 3 Disnaker Sleman
URL:https://disnaker.slemankab.go.id/event/test-indomaret-di-aula-nakula-lantai-3-disnaker-sleman/
END:VEVENT
BEGIN:VEVENT
DTSTART;TZID=Asia/Krasnoyarsk:20240109T060000
DTEND;TZID=Asia/Krasnoyarsk:20240109T070000
DTSTAMP:20260424T102314
CREATED:20240109T012345Z
LAST-MODIFIED:20240109T012345Z
UID:16086-1704780000-1704783600@disnaker.slemankab.go.id
SUMMARY:Pelepasan transmigran DIY tujuan lokasi Raimuna Kab Muna di Transito DIY
DESCRIPTION:Pelepasan transmigran DIY tujuan lokasi Raimuna Kab Muna di Transito DIY
URL:https://disnaker.slemankab.go.id/event/pelepasan-transmigran-diy-tujuan-lokasi-raimuna-kab-muna-di-transito-diy/
END:VEVENT
BEGIN:VEVENT
DTSTART;TZID=Asia/Krasnoyarsk:20240108T130000
DTEND;TZID=Asia/Krasnoyarsk:20240108T150000
DTSTAMP:20260424T102314
CREATED:20240123T005416Z
LAST-MODIFIED:20240123T005416Z
UID:16148-1704718800-1704726000@disnaker.slemankab.go.id
SUMMARY:Rapat Koordinasi Kegiatan Career Day Tahun 2024 di Ruang Pertemuan SMK Penerbangan AAG Adisutjipto
DESCRIPTION:Rapat Koordinasi Kegiatan Career Day Tahun 2024 di Ruang Pertemuan SMK Penerbangan AAG Adisutjipto
URL:https://disnaker.slemankab.go.id/event/rapat-koordinasi-kegiatan-career-day-tahun-2024-di-ruang-pertemuan-smk-penerbangan-aag-adisutjipto-2/
END:VEVENT
BEGIN:VEVENT
DTSTART;TZID=Asia/Krasnoyarsk:20240105T130000
DTEND;TZID=Asia/Krasnoyarsk:20240105T170000
DTSTAMP:20260424T102314
CREATED:20240112T013318Z
LAST-MODIFIED:20240112T013318Z
UID:16121-1704459600-1704474000@disnaker.slemankab.go.id
SUMMARY:Rapat Koordinasi Kegiatan Career Day Tahun 2024 di Ruang Pertemuan SMK Penerbangan AAG Adisutjipto
DESCRIPTION:Rapat Koordinasi Kegiatan Career Day Tahun 2024 di Ruang Pertemuan SMK Penerbangan AAG Adisutjipto
URL:https://disnaker.slemankab.go.id/event/rapat-koordinasi-kegiatan-career-day-tahun-2024-di-ruang-pertemuan-smk-penerbangan-aag-adisutjipto/
END:VEVENT
BEGIN:VEVENT
DTSTART;TZID=Asia/Krasnoyarsk:20240104T090000
DTEND;TZID=Asia/Krasnoyarsk:20240104T120000
DTSTAMP:20260424T102314
CREATED:20240112T013225Z
LAST-MODIFIED:20240112T013225Z
UID:16119-1704358800-1704369600@disnaker.slemankab.go.id
SUMMARY:Koordinasi BKK kepada Kalurahan di RR Dhandanggulo Bappeda
DESCRIPTION:Koordinasi BKK kepada Kalurahan di RR Dhandanggulo Bappeda
URL:https://disnaker.slemankab.go.id/event/koordinasi-bkk-kepada-kalurahan-di-rr-dhandanggulo-bappeda/
END:VEVENT
BEGIN:VEVENT
DTSTART;TZID=Asia/Krasnoyarsk:20231229T080000
DTEND;TZID=Asia/Krasnoyarsk:20231229T170000
DTSTAMP:20260424T102314
CREATED:20240109T020636Z
LAST-MODIFIED:20240109T020636Z
UID:16112-1703836800-1703869200@disnaker.slemankab.go.id
SUMMARY:Rapat Koordinasi Forum Komunikasi Lembaga Pelatihan dengan Industri bersama Dirjen Pembinaan Pelatihan Vokasi dan Produktifitas
DESCRIPTION:Rapat Koordinasi Forum Komunikasi Lembaga Pelatihan dengan Industri bersama Dirjen Pembinaan Pelatihan Vokasi dan Produktifitas
URL:https://disnaker.slemankab.go.id/event/rapat-koordinasi-forum-komunikasi-lembaga-pelatihan-dengan-industri-bersama-dirjen-pembinaan-pelatihan-vokasi-dan-produktifitas/
END:VEVENT
BEGIN:VEVENT
DTSTART;TZID=Asia/Krasnoyarsk:20231228T100000
DTEND;TZID=Asia/Krasnoyarsk:20231228T130000
DTSTAMP:20260424T102314
CREATED:20240109T020324Z
LAST-MODIFIED:20240109T020324Z
UID:16110-1703757600-1703768400@disnaker.slemankab.go.id
SUMMARY:Paparan Hasil Penghitungan IPP Kabupaten Sleman Tahun 2023 di R.R Gelora Pora Dispora
DESCRIPTION:Paparan Hasil Penghitungan IPP Kabupaten Sleman Tahun 2023 di R.R Gelora Pora Dispora
URL:https://disnaker.slemankab.go.id/event/paparan-hasil-penghitungan-ipp-kabupaten-sleman-tahun-2023-di-r-r-gelora-pora-dispora/
END:VEVENT
BEGIN:VEVENT
DTSTART;TZID=Asia/Krasnoyarsk:20231227T100000
DTEND;TZID=Asia/Krasnoyarsk:20231227T170000
DTSTAMP:20260424T102314
CREATED:20240109T015952Z
LAST-MODIFIED:20240109T015952Z
UID:16108-1703671200-1703696400@disnaker.slemankab.go.id
SUMMARY:Sosialisasi Implementasi Sistem Kerja Baru dan SOTK Baru dalam rangka Pelaksanaan Kebijakan Penyederhaan Birokrasi di Aula Lt. III Setda
DESCRIPTION:Sosialisasi Implementasi Sistem Kerja Baru dan SOTK Baru dalam rangka Pelaksanaan Kebijakan Penyederhaan Birokrasi di Aula Lt. III Setda
URL:https://disnaker.slemankab.go.id/event/sosialisasi-implementasi-sistem-kerja-baru-dan-sotk-baru-dalam-rangka-pelaksanaan-kebijakan-penyederhaan-birokrasi-di-aula-lt-iii-setda/
END:VEVENT
BEGIN:VEVENT
DTSTART;TZID=Asia/Krasnoyarsk:20231221T090000
DTEND;TZID=Asia/Krasnoyarsk:20231221T130000
DTSTAMP:20260424T102314
CREATED:20240109T015803Z
LAST-MODIFIED:20240109T015803Z
UID:16106-1703149200-1703163600@disnaker.slemankab.go.id
SUMMARY:Rapat koordinasi Satu Data Ketenagakerjaan di Disnakertrans DIY
DESCRIPTION:Rapat koordinasi Satu Data Ketenagakerjaan di Disnakertrans DIY
URL:https://disnaker.slemankab.go.id/event/rapat-koordinasi-satu-data-ketenagakerjaan-di-disnakertrans-diy/
END:VEVENT
BEGIN:VEVENT
DTSTART;TZID=Asia/Krasnoyarsk:20231219T080000
DTEND;TZID=Asia/Krasnoyarsk:20231219T130000
DTSTAMP:20260424T102314
CREATED:20240109T015449Z
LAST-MODIFIED:20240109T015516Z
UID:16104-1702972800-1702990800@disnaker.slemankab.go.id
SUMMARY:Pendampingan Penyusunan SKP di Aula Nakula lantai III
DESCRIPTION:Pendampingan Penyusunan SKP di Aula Nakula lantai III
URL:https://disnaker.slemankab.go.id/event/pendampingan-penyusunan-skp-di-aula-nakula-lantai-iii/
END:VEVENT
BEGIN:VEVENT
DTSTART;TZID=Asia/Krasnoyarsk:20231214T080000
DTEND;TZID=Asia/Krasnoyarsk:20231214T130000
DTSTAMP:20260424T102314
CREATED:20240109T015138Z
LAST-MODIFIED:20240109T015138Z
UID:16102-1702540800-1702558800@disnaker.slemankab.go.id
SUMMARY:Pembukaan Kegiatan Job Fair di SMK Kesehatan Sadewaa
DESCRIPTION:Pembukaan Kegiatan Job Fair di SMK Kesehatan Sadewaa
URL:https://disnaker.slemankab.go.id/event/pembukaan-kegiatan-job-fair-di-smk-kesehatan-sadewaa/
END:VEVENT
BEGIN:VEVENT
DTSTART;TZID=Asia/Krasnoyarsk:20231212T083000
DTEND;TZID=Asia/Krasnoyarsk:20231212T130000
DTSTAMP:20260424T102314
CREATED:20240109T014827Z
LAST-MODIFIED:20240109T014827Z
UID:16100-1702369800-1702386000@disnaker.slemankab.go.id
SUMMARY:Pembukaan Pameran Job Fair dan Pameran Ekspose SMK Muhammadiyah Gamping (Edu Fair) di Halaman SMK Muhammadiyah Gamping
DESCRIPTION:Pembukaan Pameran Job Fair dan Pameran Ekspose SMK Muhammadiyah Gamping (Edu Fair) di Halaman SMK Muhammadiyah Gamping
URL:https://disnaker.slemankab.go.id/event/pembukaan-pameran-job-fair-dan-pameran-ekspose-smk-muhammadiyah-gamping-edu-fair-di-halaman-smk-muhammadiyah-gamping/
END:VEVENT
END:VCALENDAR