BEGIN:VCALENDAR
VERSION:2.0
PRODID:-//DINAS TENAGA KERJA - ECPv6.15.11//NONSGML v1.0//EN
CALSCALE:GREGORIAN
METHOD:PUBLISH
X-WR-CALNAME:DINAS TENAGA KERJA
X-ORIGINAL-URL:https://disnaker.slemankab.go.id
X-WR-CALDESC:Events for DINAS TENAGA KERJA
REFRESH-INTERVAL;VALUE=DURATION:PT1H
X-Robots-Tag:noindex
X-PUBLISHED-TTL:PT1H
BEGIN:VTIMEZONE
TZID:Asia/Krasnoyarsk
BEGIN:STANDARD
TZOFFSETFROM:+0700
TZOFFSETTO:+0700
TZNAME:+07
DTSTART:20210101T000000
END:STANDARD
END:VTIMEZONE
BEGIN:VEVENT
DTSTART;TZID=Asia/Krasnoyarsk:20221111T130000
DTEND;TZID=Asia/Krasnoyarsk:20221111T170000
DTSTAMP:20260424T114731
CREATED:20221214T080118Z
LAST-MODIFIED:20221214T080118Z
UID:13364-1668171600-1668186000@disnaker.slemankab.go.id
SUMMARY:Pembukaan MTQ Tingkat Kabupaten Sleman Tahun 2022 di Pendopo Parasamya
DESCRIPTION:Pembukaan MTQ Tingkat Kabupaten Sleman Tahun 2022 di Pendopo Parasamya
URL:https://disnaker.slemankab.go.id/event/pembukaan-mtq-tingkat-kabupaten-sleman-tahun-2022-di-pendopo-parasamya/
END:VEVENT
BEGIN:VEVENT
DTSTART;TZID=Asia/Krasnoyarsk:20221109T093000
DTEND;TZID=Asia/Krasnoyarsk:20221109T170000
DTSTAMP:20260424T114733
CREATED:20221214T032235Z
LAST-MODIFIED:20221214T033050Z
UID:13362-1667986200-1668013200@disnaker.slemankab.go.id
SUMMARY:Narasumber pelaksanaan Sosialisasi padat karya Insfrastruktur tahun 2022 di Margokaton Seyegan
DESCRIPTION:Narasumber pelaksanaan Sosialisasi padat karya Insfrastruktur tahun 2022 di Margokaton Seyegan
URL:https://disnaker.slemankab.go.id/event/narasumber-pelaksanaan-sosialisasi-padat-karya-insfrastruktur-tahun-2022-di-margokaton-seyegan/
END:VEVENT
BEGIN:VEVENT
DTSTART;TZID=Asia/Krasnoyarsk:20221108T090000
DTEND;TZID=Asia/Krasnoyarsk:20221108T170000
DTSTAMP:20260424T114733
CREATED:20221214T023113Z
LAST-MODIFIED:20221214T023113Z
UID:13358-1667898000-1667926800@disnaker.slemankab.go.id
SUMMARY:Pendampingan pasca pelatihan di RR. Sadewa lt III
DESCRIPTION:Pendampingan pasca pelatihan di RR. Sadewa lt III
URL:https://disnaker.slemankab.go.id/event/pendampingan-pasca-pelatihan-di-rr-sadewa-lt-iii/
END:VEVENT
BEGIN:VEVENT
DTSTART;TZID=Asia/Krasnoyarsk:20221107T123000
DTEND;TZID=Asia/Krasnoyarsk:20221107T170000
DTSTAMP:20260424T114733
CREATED:20221213T081624Z
LAST-MODIFIED:20221213T081624Z
UID:13351-1667824200-1667840400@disnaker.slemankab.go.id
SUMMARY:Koordinasi Badan Pekerja Dewan Pengupahan Kabupaten Sleman di Ruang Mediasi Disnaker
DESCRIPTION:Koordinasi Badan Pekerja Dewan Pengupahan Kabupaten Sleman di Ruang Mediasi Disnaker
URL:https://disnaker.slemankab.go.id/event/koordinasi-badan-pekerja-dewan-pengupahan-kabupaten-sleman-di-ruang-mediasi-disnaker/
END:VEVENT
BEGIN:VEVENT
DTSTART;TZID=Asia/Krasnoyarsk:20221104T183000
DTEND;TZID=Asia/Krasnoyarsk:20221104T210000
DTSTAMP:20260424T114733
CREATED:20221213T081055Z
LAST-MODIFIED:20221213T081055Z
UID:13349-1667586600-1667595600@disnaker.slemankab.go.id
SUMMARY:Tasyakuran Kotingen Karate Forki Sleman di RM. Bebakaran Ngaglik
DESCRIPTION:Tasyakuran Kotingen Karate Forki Sleman di RM. Bebakaran Ngaglik
URL:https://disnaker.slemankab.go.id/event/tasyakuran-kotingen-karate-forki-sleman-di-rm-bebakaran-ngaglik/
END:VEVENT
BEGIN:VEVENT
DTSTART;TZID=Asia/Krasnoyarsk:20221103T130000
DTEND;TZID=Asia/Krasnoyarsk:20221103T170000
DTSTAMP:20260424T114733
CREATED:20221213T080927Z
LAST-MODIFIED:20221213T080927Z
UID:13347-1667480400-1667494800@disnaker.slemankab.go.id
SUMMARY:Peserta Pilot Project Pelatihan SDM Pengukuran Peningkatan Produktivitas di Aveon Hotel 
DESCRIPTION:Peserta Pilot Project Pelatihan SDM Pengukuran Peningkatan Produktivitas di Aveon Hotel 
URL:https://disnaker.slemankab.go.id/event/peserta-pilot-project-pelatihan-sdm-pengukuran-peningkatan-produktivitas-di-aveon-hotel/
END:VEVENT
BEGIN:VEVENT
DTSTART;TZID=Asia/Krasnoyarsk:20221102T130000
DTEND;TZID=Asia/Krasnoyarsk:20221102T170000
DTSTAMP:20260424T114733
CREATED:20221213T080600Z
LAST-MODIFIED:20221213T080600Z
UID:13345-1667394000-1667408400@disnaker.slemankab.go.id
SUMMARY:Resepsi Hari Bhakti PDAM Tirta Sembada ke-30 di Graha Sarina Vidi
DESCRIPTION:Resepsi Hari Bhakti PDAM Tirta Sembada ke-30 di Graha Sarina Vidi
URL:https://disnaker.slemankab.go.id/event/resepsi-hari-bhakti-pdam-tirta-sembada-ke-30-di-graha-sarina-vidi/
END:VEVENT
BEGIN:VEVENT
DTSTART;TZID=Asia/Krasnoyarsk:20221101T090000
DTEND;TZID=Asia/Krasnoyarsk:20221101T170000
DTSTAMP:20260424T114733
CREATED:20221213T080440Z
LAST-MODIFIED:20221213T080440Z
UID:13343-1667293200-1667322000@disnaker.slemankab.go.id
SUMMARY:Narasumber kegiatan pelatihan Bidang Barista dari Dinas Tenaga Kerja Kabupaten Sleman dengan Materi Ketenagakerjaan di Graha Azarine
DESCRIPTION:Narasumber kegiatan pelatihan Bidang Barista dari Dinas Tenaga Kerja Kabupaten Sleman dengan Materi Ketenagakerjaan di Graha Azarine
URL:https://disnaker.slemankab.go.id/event/narasumber-kegiatan-pelatihan-bidang-barista-dari-dinas-tenaga-kerja-kabupaten-sleman-dengan-materi-ketenagakerjaan-di-graha-azarine/
END:VEVENT
BEGIN:VEVENT
DTSTART;TZID=Asia/Krasnoyarsk:20221031T090000
DTEND;TZID=Asia/Krasnoyarsk:20221031T170000
DTSTAMP:20260424T114733
CREATED:20221213T075219Z
LAST-MODIFIED:20221213T075612Z
UID:13341-1667206800-1667235600@disnaker.slemankab.go.id
SUMMARY:Rapat Pembahasan Kepesertaan Jaminan Sosial di Rumah Makan Pringsewu
DESCRIPTION:Rapat Pembahasan Kepesertaan Jaminan Sosial di Rumah Makan Pringsewu
URL:https://disnaker.slemankab.go.id/event/rapat-pembahasan-kepesertaan-jaminan-sosial-di-rumah-makan-pringsewu/
END:VEVENT
BEGIN:VEVENT
DTSTART;TZID=Asia/Krasnoyarsk:20221028T090000
DTEND;TZID=Asia/Krasnoyarsk:20221028T170000
DTSTAMP:20260424T114733
CREATED:20221213T074243Z
LAST-MODIFIED:20221213T074243Z
UID:13334-1666947600-1666976400@disnaker.slemankab.go.id
SUMMARY:Rapat Koordinasi Posyantrans di RR. Sadewa lantai III Disnaker Sleman
DESCRIPTION:Rapat Koordinasi Posyantrans di RR. Sadewa lantai III Disnaker Sleman
URL:https://disnaker.slemankab.go.id/event/rapat-koordinasi-posyantrans-di-rr-sadewa-lantai-iii-disnaker-sleman/
END:VEVENT
BEGIN:VEVENT
DTSTART;TZID=Asia/Krasnoyarsk:20221027T130000
DTEND;TZID=Asia/Krasnoyarsk:20221027T170000
DTSTAMP:20260424T114733
CREATED:20221213T074049Z
LAST-MODIFIED:20221213T074049Z
UID:13332-1666875600-1666890000@disnaker.slemankab.go.id
SUMMARY:Rapat Rekomendasi Pengajuan pinjaman penguatan modal di RR. Sadewa lantai III Disnaker Sleman
DESCRIPTION:Rapat Rekomendasi Pengajuan pinjaman penguatan modal di RR. Sadewa lantai III Disnaker Sleman
URL:https://disnaker.slemankab.go.id/event/rapat-rekomendasi-pengajuan-pinjaman-penguatan-modal-di-rr-sadewa-lantai-iii-disnaker-sleman/
END:VEVENT
BEGIN:VEVENT
DTSTART;TZID=Asia/Krasnoyarsk:20221026T090000
DTEND;TZID=Asia/Krasnoyarsk:20221026T170000
DTSTAMP:20260424T114733
CREATED:20221213T073905Z
LAST-MODIFIED:20221213T073905Z
UID:13330-1666774800-1666803600@disnaker.slemankab.go.id
SUMMARY:Seleksi Alfamart di Aula Nakula lantai III Disnaker Sleman
DESCRIPTION:Seleksi Alfamart di Aula Nakula lantai III Disnaker Sleman
URL:https://disnaker.slemankab.go.id/event/seleksi-alfamart-di-aula-nakula-lantai-iii-disnaker-sleman/
END:VEVENT
BEGIN:VEVENT
DTSTART;TZID=Asia/Krasnoyarsk:20221026T080000
DTEND;TZID=Asia/Krasnoyarsk:20221026T170000
DTSTAMP:20260424T114733
CREATED:20221213T073812Z
LAST-MODIFIED:20221213T073812Z
UID:13328-1666771200-1666803600@disnaker.slemankab.go.id
SUMMARY:Bimtek Penyusunan Laporan Keuangan Daerah tahun 2022 di R. Arjuna Hotel Alana
DESCRIPTION:Bimtek Penyusunan Laporan Keuangan Daerah tahun 2022 di R. Arjuna Hotel Alana
URL:https://disnaker.slemankab.go.id/event/bimtek-penyusunan-laporan-keuangan-daerah-tahun-2022-di-r-arjuna-hotel-alana/
END:VEVENT
BEGIN:VEVENT
DTSTART;TZID=Asia/Krasnoyarsk:20221025T090000
DTEND;TZID=Asia/Krasnoyarsk:20221025T170000
DTSTAMP:20260424T114733
CREATED:20221213T073650Z
LAST-MODIFIED:20221213T073650Z
UID:13326-1666688400-1666717200@disnaker.slemankab.go.id
SUMMARY:Narasumber pelaksanaan kegiatan Bimtek Pembinaan Hubungan Industrial bagi siswa SMK di SMK AAG Penenerbangan dan SMK Kesehatan Sadewa
DESCRIPTION:Narasumber pelaksanaan kegiatan Bimtek Pembinaan Hubungan Industrial bagi siswa SMK di SMK AAG Penenerbangan dan SMK Kesehatan Sadewa
URL:https://disnaker.slemankab.go.id/event/narasumber-pelaksanaan-kegiatan-bimtek-pembinaan-hubungan-industrial-bagi-siswa-smk-di-smk-aag-penenerbangan-dan-smk-kesehatan-sadewa-2/
END:VEVENT
BEGIN:VEVENT
DTSTART;TZID=Asia/Krasnoyarsk:20221024T090000
DTEND;TZID=Asia/Krasnoyarsk:20221024T170000
DTSTAMP:20260424T114733
CREATED:20221213T073527Z
LAST-MODIFIED:20221213T073527Z
UID:13324-1666602000-1666630800@disnaker.slemankab.go.id
SUMMARY:Narasumber pelaksanaan kegiatan Bimtek Pembinaan Hubungan Industrial bagi siswa SMK di SMK AAG Penenerbangan dan SMK Kesehatan Sadewa
DESCRIPTION:Narasumber pelaksanaan kegiatan Bimtek Pembinaan Hubungan Industrial bagi siswa SMK di SMK AAG Penenerbangan dan SMK Kesehatan Sadewa
URL:https://disnaker.slemankab.go.id/event/narasumber-pelaksanaan-kegiatan-bimtek-pembinaan-hubungan-industrial-bagi-siswa-smk-di-smk-aag-penenerbangan-dan-smk-kesehatan-sadewa/
END:VEVENT
BEGIN:VEVENT
DTSTART;TZID=Asia/Krasnoyarsk:20221024T080000
DTEND;TZID=Asia/Krasnoyarsk:20221024T170000
DTSTAMP:20260424T114733
CREATED:20221213T073326Z
LAST-MODIFIED:20221213T073326Z
UID:13322-1666598400-1666630800@disnaker.slemankab.go.id
SUMMARY:Forkom HILLSI Tahun 2022 di RM. Puri Mataram
DESCRIPTION:Forkom HILLSI Tahun 2022 di RM. Puri Mataram
URL:https://disnaker.slemankab.go.id/event/forkom-hillsi-tahun-2022-di-rm-puri-mataram/
END:VEVENT
BEGIN:VEVENT
DTSTART;TZID=Asia/Krasnoyarsk:20221023T183000
DTEND;TZID=Asia/Krasnoyarsk:20221023T210000
DTSTAMP:20260424T114733
CREATED:20221213T073153Z
LAST-MODIFIED:20221213T073153Z
UID:13320-1666549800-1666558800@disnaker.slemankab.go.id
SUMMARY:Malam Puncak Gebyar Batik Sleman di Atrium Rama SCH
DESCRIPTION:Malam Puncak Gebyar Batik Sleman di Atrium Rama SCH
URL:https://disnaker.slemankab.go.id/event/malam-puncak-gebyar-batik-sleman-di-atrium-rama-sch/
END:VEVENT
BEGIN:VEVENT
DTSTART;TZID=Asia/Krasnoyarsk:20221022T090000
DTEND;TZID=Asia/Krasnoyarsk:20221022T170000
DTSTAMP:20260424T114733
CREATED:20221213T073018Z
LAST-MODIFIED:20221213T073018Z
UID:13318-1666429200-1666458000@disnaker.slemankab.go.id
SUMMARY:Pembukaan Gadjah Mada Career Festival 2022 di Gedung GSP UGM
DESCRIPTION:Pembukaan Gadjah Mada Career Festival 2022 di Gedung GSP UGM
URL:https://disnaker.slemankab.go.id/event/pembukaan-gadjah-mada-career-festival-2022-di-gedung-gsp-ugm/
END:VEVENT
BEGIN:VEVENT
DTSTART;TZID=Asia/Krasnoyarsk:20221021T153000
DTEND;TZID=Asia/Krasnoyarsk:20221021T170000
DTSTAMP:20260424T114733
CREATED:20221213T072323Z
LAST-MODIFIED:20221213T072323Z
UID:13315-1666366200-1666371600@disnaker.slemankab.go.id
SUMMARY:Ground Breaking/peletakan Batu Pertama pembangunan UPTP BPVP Bantul di Disnakertrans Bantul
DESCRIPTION:Ground Breaking/peletakan Batu Pertama pembangunan UPTP BPVP Bantul di Disnakertrans Bantul
URL:https://disnaker.slemankab.go.id/event/ground-breaking-peletakan-batu-pertama-pembangunan-uptp-bpvp-bantul-di-disnakertrans-bantul/
END:VEVENT
BEGIN:VEVENT
DTSTART;TZID=Asia/Krasnoyarsk:20221021T143000
DTEND;TZID=Asia/Krasnoyarsk:20221021T170000
DTSTAMP:20260424T114733
CREATED:20221213T072235Z
LAST-MODIFIED:20221213T072235Z
UID:13313-1666362600-1666371600@disnaker.slemankab.go.id
SUMMARY:Pembukaan Sleman Creative Week 2022 dan pengukuhan Sleman Creative Community di Pendopo Taman Wisata Kuliner Condongcatur
DESCRIPTION:Pembukaan Sleman Creative Week 2022 dan pengukuhan Sleman Creative Community di Pendopo Taman Wisata Kuliner Condongcatur
URL:https://disnaker.slemankab.go.id/event/pembukaan-sleman-creative-week-2022-dan-pengukuhan-sleman-creative-community-di-pendopo-taman-wisata-kuliner-condongcatur/
END:VEVENT
BEGIN:VEVENT
DTSTART;TZID=Asia/Krasnoyarsk:20221020T080000
DTEND;TZID=Asia/Krasnoyarsk:20221020T170000
DTSTAMP:20260424T114733
CREATED:20221213T071534Z
LAST-MODIFIED:20221213T071712Z
UID:13311-1666252800-1666285200@disnaker.slemankab.go.id
SUMMARY:Rekruitmen Diamond Optik di RR. Sadewa lt. III Disnaker Sleman
DESCRIPTION:Rekruitmen Diamond Optik di RR. Sadewa lt. III Disnaker Sleman
URL:https://disnaker.slemankab.go.id/event/rekruitmen-diamond-optik-di-rr-sadewa-lt-iii-disnaker-sleman/
END:VEVENT
BEGIN:VEVENT
DTSTART;TZID=Asia/Krasnoyarsk:20221019T120000
DTEND;TZID=Asia/Krasnoyarsk:20221019T170000
DTSTAMP:20260424T114733
CREATED:20221213T071131Z
LAST-MODIFIED:20221213T071131Z
UID:13306-1666180800-1666198800@disnaker.slemankab.go.id
SUMMARY:Open House Pelatihan Vokasi di BPVP Surakarta
DESCRIPTION:Open House Pelatihan Vokasi di BPVP Surakarta
URL:https://disnaker.slemankab.go.id/event/open-house-pelatihan-vokasi-di-bpvp-surakarta/
END:VEVENT
BEGIN:VEVENT
DTSTART;TZID=Asia/Krasnoyarsk:20221019T080000
DTEND;TZID=Asia/Krasnoyarsk:20221019T170000
DTSTAMP:20260424T114733
CREATED:20221213T071218Z
LAST-MODIFIED:20221213T071253Z
UID:13308-1666166400-1666198800@disnaker.slemankab.go.id
SUMMARY:Cek Lokasi penempatan transmigran TA 2022 di Tempirai Selatan\, SumSel
DESCRIPTION:Cek Lokasi penempatan transmigran TA 2022 di Tempirai Selatan\, SumSel
URL:https://disnaker.slemankab.go.id/event/cek-lokasi-penempatan-transmigran-ta-2022-di-tempirai-selatan-sumsel/
END:VEVENT
BEGIN:VEVENT
DTSTART;TZID=Asia/Krasnoyarsk:20221018T093000
DTEND;TZID=Asia/Krasnoyarsk:20221018T113000
DTSTAMP:20260424T114733
CREATED:20221018T010247Z
LAST-MODIFIED:20221018T010247Z
UID:12973-1666085400-1666092600@disnaker.slemankab.go.id
SUMMARY:Pembukaan Program Profesi Chef Angkatan XXXI TA 2022 - 2023 di Aula lantai II Budi Mulia Culinary School
DESCRIPTION:Pembukaan Program Profesi Chef Angkatan XXXI TA 2022 – 2023 di Aula lantai II Budi Mulia Culinary School
URL:https://disnaker.slemankab.go.id/event/pembukaan-program-profesi-chef-angkatan-xxxi-ta-2022-2023-di-aula-lantai-ii-budi-mulia-culinary-school/
END:VEVENT
BEGIN:VEVENT
DTSTART;TZID=Asia/Krasnoyarsk:20221018T080000
DTEND;TZID=Asia/Krasnoyarsk:20221018T170000
DTSTAMP:20260424T114733
CREATED:20221018T010140Z
LAST-MODIFIED:20221018T010140Z
UID:12971-1666080000-1666112400@disnaker.slemankab.go.id
SUMMARY:Narasumber Sosialisasi Padat Karya di  Gatak Sendangsari\, Minggir  Trimulyo Sleman Krikilan\, Sumberan\, Sariharjo Trimulyo Sleman Jalan Ngapak\, Gedongan \, Sumberagung Kalurahan Condongcatur
DESCRIPTION:Narasumber Sosialisasi Padat Karya di \n\nGatak Sendangsari\, Minggir\nTrimulyo Sleman\nKrikilan\, Sumberan\, Sariharjo\nTrimulyo Sleman\nJalan Ngapak\, Gedongan \, Sumberagung\nKalurahan Condongcatur
URL:https://disnaker.slemankab.go.id/event/narasumber-sosialisasi-padat-karya-di-gatak-sendangsari-minggir-trimulyo-sleman-krikilan-sumberan-sariharjo-trimulyo-sleman-jalan-ngapak-gedongan-sumberagung-kalurahan-condongcatur/
END:VEVENT
BEGIN:VEVENT
DTSTART;TZID=Asia/Krasnoyarsk:20221014T130000
DTEND;TZID=Asia/Krasnoyarsk:20221014T170000
DTSTAMP:20260424T114733
CREATED:20221014T012808Z
LAST-MODIFIED:20221014T012808Z
UID:12966-1665752400-1665766800@disnaker.slemankab.go.id
SUMMARY:Penutupan Pelatihan Institusional dan MTU Angkatan 5 dana APBD di UPTD BLK Sleman
DESCRIPTION:Penutupan Pelatihan Institusional dan MTU Angkatan 5 dana APBD di UPTD BLK Sleman
URL:https://disnaker.slemankab.go.id/event/penutupan-pelatihan-institusional-dan-mtu-angkatan-5-dana-apbd-di-uptd-blk-sleman/
END:VEVENT
BEGIN:VEVENT
DTSTART;TZID=Asia/Krasnoyarsk:20221014T090000
DTEND;TZID=Asia/Krasnoyarsk:20221014T170000
DTSTAMP:20260424T114733
CREATED:20221014T012610Z
LAST-MODIFIED:20221014T012610Z
UID:12964-1665738000-1665766800@disnaker.slemankab.go.id
SUMMARY:Rekruitment Toko Kacamata Balens di Ruang Sadewa
DESCRIPTION:Rekruitment Toko Kacamata Balens di Ruang Sadewa
URL:https://disnaker.slemankab.go.id/event/rekruitment-toko-kacamata-balens-di-ruang-sadewa/
END:VEVENT
BEGIN:VEVENT
DTSTART;TZID=Asia/Krasnoyarsk:20221013T090000
DTEND;TZID=Asia/Krasnoyarsk:20221013T170000
DTSTAMP:20260424T114733
CREATED:20221014T012443Z
LAST-MODIFIED:20221014T012443Z
UID:12961-1665651600-1665680400@disnaker.slemankab.go.id
SUMMARY:Test wawancara PT. Yokogawa Beta
DESCRIPTION:Test wawancara PT. Yokogawa Beta
URL:https://disnaker.slemankab.go.id/event/test-wawancara-pt-yokogawa-beta/
END:VEVENT
BEGIN:VEVENT
DTSTART;TZID=Asia/Krasnoyarsk:20221013T090000
DTEND;TZID=Asia/Krasnoyarsk:20221013T170000
DTSTAMP:20260424T114733
CREATED:20221014T012349Z
LAST-MODIFIED:20221014T012349Z
UID:12959-1665651600-1665680400@disnaker.slemankab.go.id
SUMMARY:Narasumber Workshop Budaya Kerja di SMK Insan Cendekia
DESCRIPTION:Narasumber Workshop Budaya Kerja di SMK Insan Cendekia
URL:https://disnaker.slemankab.go.id/event/narasumber-workshop-budaya-kerja-di-smk-insan-cendekia/
END:VEVENT
BEGIN:VEVENT
DTSTART;TZID=Asia/Krasnoyarsk:20221012T080000
DTEND;TZID=Asia/Krasnoyarsk:20221012T170000
DTSTAMP:20260424T114733
CREATED:20221014T011855Z
LAST-MODIFIED:20221014T011855Z
UID:12957-1665561600-1665594000@disnaker.slemankab.go.id
SUMMARY:Rekruitmen PT Sahara di Aula Nakula
DESCRIPTION:Rekruitmen PT Sahara di Aula Nakula
URL:https://disnaker.slemankab.go.id/event/rekruitmen-pt-sahara-di-aula-nakula/
END:VEVENT
END:VCALENDAR