BEGIN:VCALENDAR
VERSION:2.0
PRODID:-//DINAS TENAGA KERJA - ECPv6.15.11//NONSGML v1.0//EN
CALSCALE:GREGORIAN
METHOD:PUBLISH
X-WR-CALNAME:DINAS TENAGA KERJA
X-ORIGINAL-URL:https://disnaker.slemankab.go.id
X-WR-CALDESC:Events for DINAS TENAGA KERJA
REFRESH-INTERVAL;VALUE=DURATION:PT1H
X-Robots-Tag:noindex
X-PUBLISHED-TTL:PT1H
BEGIN:VTIMEZONE
TZID:Asia/Krasnoyarsk
BEGIN:STANDARD
TZOFFSETFROM:+0700
TZOFFSETTO:+0700
TZNAME:+07
DTSTART:20210101T000000
END:STANDARD
END:VTIMEZONE
BEGIN:VEVENT
DTSTART;TZID=Asia/Krasnoyarsk:20221215T090000
DTEND;TZID=Asia/Krasnoyarsk:20221215T120000
DTSTAMP:20260423T202152
CREATED:20221216T031532Z
LAST-MODIFIED:20221216T031629Z
UID:13445-1671094800-1671105600@disnaker.slemankab.go.id
SUMMARY:Koordinasi persipan Verifikasi Kabupaten Sehat tingkat DIY di Aula sari Dewi Catering 
DESCRIPTION:Koordinasi persipan Verifikasi Kabupaten Sehat tingkat DIY di Aula sari Dewi Catering 
URL:https://disnaker.slemankab.go.id/event/koordinasi-persipan-verifikasi-kabupaten-sehat-tingkat-diy-di-aula-sari-dewi-catering/
END:VEVENT
BEGIN:VEVENT
DTSTART;TZID=Asia/Krasnoyarsk:20221214T090000
DTEND;TZID=Asia/Krasnoyarsk:20221214T130000
DTSTAMP:20260423T202152
CREATED:20221216T025924Z
LAST-MODIFIED:20221216T025924Z
UID:13443-1671008400-1671022800@disnaker.slemankab.go.id
SUMMARY:Optimalisasi Program Pemagangan Dalam Negeri di DIY tahun 2023 di Eastpact Hotel 
DESCRIPTION:Optimalisasi Program Pemagangan Dalam Negeri di DIY tahun 2023 di Eastpact Hotel 
URL:https://disnaker.slemankab.go.id/event/optimalisasi-program-pemagangan-dalam-negeri-di-diy-tahun-2023-di-eastpact-hotel/
END:VEVENT
BEGIN:VEVENT
DTSTART;TZID=Asia/Krasnoyarsk:20221213T123000
DTEND;TZID=Asia/Krasnoyarsk:20221213T170000
DTSTAMP:20260423T202152
CREATED:20221216T024636Z
LAST-MODIFIED:20221216T024636Z
UID:13440-1670934600-1670950800@disnaker.slemankab.go.id
SUMMARY:High Level Meeting Tim Pengendalian Inflasi Daerah membahas kesiapan Hari Raya Natal 2022 dan Tahun Baru 2023 di Aula lantai III Setda
DESCRIPTION:High Level Meeting Tim Pengendalian Inflasi Daerah membahas kesiapan Hari Raya Natal 2022 dan Tahun Baru 2023 di Aula lantai III Setda
URL:https://disnaker.slemankab.go.id/event/high-level-meeting-tim-pengendalian-inflasi-daerah-membahas-kesiapan-hari-raya-natal-2022-dan-tahun-baru-2023-di-aula-lantai-iii-setda/
END:VEVENT
BEGIN:VEVENT
DTSTART;TZID=Asia/Krasnoyarsk:20221212T080000
DTEND;TZID=Asia/Krasnoyarsk:20221212T170000
DTSTAMP:20260423T202152
CREATED:20221216T024413Z
LAST-MODIFIED:20221216T024413Z
UID:13438-1670832000-1670864400@disnaker.slemankab.go.id
SUMMARY:Pembicara acara Job Fair Integrated Career Days UII 2022 di Auditorium Prof. Kahar Muzakir UII
DESCRIPTION:Pembicara acara Job Fair Integrated Career Days UII 2022 di Auditorium Prof. Kahar Muzakir UII
URL:https://disnaker.slemankab.go.id/event/pembicara-acara-job-fair-integrated-career-days-uii-2022-di-auditorium-prof-kahar-muzakir-uii/
END:VEVENT
BEGIN:VEVENT
DTSTART;TZID=Asia/Krasnoyarsk:20221209T193000
DTEND;TZID=Asia/Krasnoyarsk:20221209T220000
DTSTAMP:20260423T202152
CREATED:20221216T023959Z
LAST-MODIFIED:20221216T024052Z
UID:13436-1670614200-1670623200@disnaker.slemankab.go.id
SUMMARY:Pengukuhan Pengurus Forum Komunikasi Ulu-Ulu MAKMURE Kab Sleman di Pendopo Rumah Dinas Bupati
DESCRIPTION:Pengukuhan Pengurus Forum Komunikasi Ulu-Ulu MAKMURE Kab Sleman di Pendopo Rumah Dinas Bupati
URL:https://disnaker.slemankab.go.id/event/pengukuhan-pengurus-forum-komunikasi-ulu-ulu-makmure-kab-sleman-di-pendopo-rumah-dinas-bupati/
END:VEVENT
BEGIN:VEVENT
DTSTART;TZID=Asia/Krasnoyarsk:20221209T130000
DTEND;TZID=Asia/Krasnoyarsk:20221209T170000
DTSTAMP:20260423T202152
CREATED:20221216T022925Z
LAST-MODIFIED:20221216T022925Z
UID:13432-1670590800-1670605200@disnaker.slemankab.go.id
SUMMARY:Rapat Koordinasi Unit Layanan Disabilitas Bidang Ketenagakerjaan di RR Puntadewa Lantai II Disnaker Sleman
DESCRIPTION:Rapat Koordinasi Unit Layanan Disabilitas Bidang Ketenagakerjaan di RR Puntadewa Lantai II Disnaker Sleman
URL:https://disnaker.slemankab.go.id/event/rapat-koordinasi-unit-layanan-disabilitas-bidang-ketenagakerjaan-di-rr-puntadewa-lantai-ii-disnaker-sleman/
END:VEVENT
BEGIN:VEVENT
DTSTART;TZID=Asia/Krasnoyarsk:20221209T080000
DTEND;TZID=Asia/Krasnoyarsk:20221209T170000
DTSTAMP:20260423T202152
CREATED:20221216T022652Z
LAST-MODIFIED:20221216T022652Z
UID:13430-1670572800-1670605200@disnaker.slemankab.go.id
SUMMARY:Pendampingan monitoring dan evaluasi laporan keuangan tahun 2022 oleh Tim kabupaten dengan Materi Pendampinan Kegiatan Padat Karya 2022 RR. Sadewa lantai III Disnaker Sleman 
DESCRIPTION:Pendampingan monitoring dan evaluasi laporan keuangan tahun 2022 oleh Tim kabupaten dengan Materi Pendampinan Kegiatan Padat Karya 2022 RR. Sadewa lantai III Disnaker Sleman 
URL:https://disnaker.slemankab.go.id/event/pendampingan-monitoring-dan-evaluasi-laporan-keuangan-tahun-2022-oleh-tim-kabupaten-dengan-materi-pendampinan-kegiatan-padat-karya-2022-rr-sadewa-lantai-iii-disnaker-sleman/
END:VEVENT
BEGIN:VEVENT
DTSTART;TZID=Asia/Krasnoyarsk:20221208T080000
DTEND;TZID=Asia/Krasnoyarsk:20221208T170000
DTSTAMP:20260423T202152
CREATED:20221216T022406Z
LAST-MODIFIED:20221216T022406Z
UID:13428-1670486400-1670518800@disnaker.slemankab.go.id
SUMMARY:FGD dengan Tema Harmonisasi KVPD DIY Pasca terbitnya PerPres 68 Tahun 2022 tentang Revitalisasi Pendidikan Vokasi dan Pelatihan Vokasi di Eastparc Hotel
DESCRIPTION:FGD dengan Tema Harmonisasi KVPD DIY Pasca terbitnya PerPres 68 Tahun 2022 tentang Revitalisasi Pendidikan Vokasi dan Pelatihan Vokasi di Eastparc Hotel
URL:https://disnaker.slemankab.go.id/event/fgd-dengan-tema-harmonisasi-kvpd-diy-pasca-terbitnya-perpres-68-tahun-2022-tentang-revitalisasi-pendidikan-vokasi-dan-pelatihan-vokasi-di-eastparc-hotel/
END:VEVENT
BEGIN:VEVENT
DTSTART;TZID=Asia/Krasnoyarsk:20221208T080000
DTEND;TZID=Asia/Krasnoyarsk:20221208T120000
DTSTAMP:20260423T202152
CREATED:20221216T061359Z
LAST-MODIFIED:20221216T061359Z
UID:13456-1670486400-1670500800@disnaker.slemankab.go.id
SUMMARY:Capasity Building di Desa Wisata Pulesari\, Wonokerto\, Turi
DESCRIPTION:Capasity Building di Desa Wisata Pulesari\, Wonokerto\, Turi
URL:https://disnaker.slemankab.go.id/event/capasity-building-di-desa-wisata-pulesari-wonokerto-turi/
END:VEVENT
BEGIN:VEVENT
DTSTART;TZID=Asia/Krasnoyarsk:20221207T090000
DTEND;TZID=Asia/Krasnoyarsk:20221207T170000
DTSTAMP:20260423T202152
CREATED:20221216T021851Z
LAST-MODIFIED:20221216T021851Z
UID:13425-1670403600-1670432400@disnaker.slemankab.go.id
SUMMARY:Rangkaian Puncak Acara Peringatan Hari Disabilitas Internasional 2022 Kab. Sleman di Gedung Serbaguna
DESCRIPTION:Rangkaian Puncak Acara Peringatan Hari Disabilitas Internasional 2022 Kab. Sleman di Gedung Serbaguna
URL:https://disnaker.slemankab.go.id/event/rangkaian-puncak-acara-peringatan-hari-disabilitas-internasional-2022-kab-sleman-di-gedung-serbaguna/
END:VEVENT
BEGIN:VEVENT
DTSTART;TZID=Asia/Krasnoyarsk:20221207T080000
DTEND;TZID=Asia/Krasnoyarsk:20221207T170000
DTSTAMP:20260423T202152
CREATED:20221216T021638Z
LAST-MODIFIED:20221216T021638Z
UID:13423-1670400000-1670432400@disnaker.slemankab.go.id
SUMMARY:Peserta Upgrading Kompetensi Pengantar Kerja dan Petugas Antar Kerja di  The Luxton Cirebon Hotel 
DESCRIPTION:Peserta Upgrading Kompetensi Pengantar Kerja dan Petugas Antar Kerja di  The Luxton Cirebon Hotel 
URL:https://disnaker.slemankab.go.id/event/peserta-upgrading-kompetensi-pengantar-kerja-dan-petugas-antar-kerja-di-the-luxton-cirebon-hotel/
END:VEVENT
BEGIN:VEVENT
DTSTART;TZID=Asia/Krasnoyarsk:20221206T100000
DTEND;TZID=Asia/Krasnoyarsk:20221206T170000
DTSTAMP:20260423T202152
CREATED:20221216T021316Z
LAST-MODIFIED:20221216T021316Z
UID:13420-1670320800-1670346000@disnaker.slemankab.go.id
SUMMARY:Penerimaan Audiensi dari Koperasi Mahasiswa UIN Sunan Kalijaga di Ruang Puntodewo lantai II Disnaker Sleman
DESCRIPTION:Penerimaan Audiensi dari Koperasi Mahasiswa UIN Sunan Kalijaga di Ruang Puntodewo lantai II Disnaker Sleman
URL:https://disnaker.slemankab.go.id/event/penerimaan-audiensi-dari-koperasi-mahasiswa-uin-sunan-kalijaga-di-ruang-puntodewo-lantai-ii-disnaker-sleman/
END:VEVENT
BEGIN:VEVENT
DTSTART;TZID=Asia/Krasnoyarsk:20221205T090000
DTEND;TZID=Asia/Krasnoyarsk:20221205T170000
DTSTAMP:20260423T202152
CREATED:20221216T021205Z
LAST-MODIFIED:20221216T021205Z
UID:13418-1670230800-1670259600@disnaker.slemankab.go.id
SUMMARY:Tes Seleksi Indomaret di Aula Nakula lantai III Disnaker Sleman
DESCRIPTION:Tes Seleksi Indomaret di Aula Nakula lantai III Disnaker Sleman
URL:https://disnaker.slemankab.go.id/event/tes-seleksi-indomaret-di-aula-nakula-lantai-iii-disnaker-sleman/
END:VEVENT
BEGIN:VEVENT
DTSTART;TZID=Asia/Krasnoyarsk:20221203T080000
DTEND;TZID=Asia/Krasnoyarsk:20221203T170000
DTSTAMP:20260423T202152
CREATED:20221216T021056Z
LAST-MODIFIED:20221216T021056Z
UID:13416-1670054400-1670086800@disnaker.slemankab.go.id
SUMMARY:Peresmian Padat Karya Moyudan dan Tanam Serentak Bibit Kelapa Kopyor di Mergan Sumberagung Moyudan
DESCRIPTION:Peresmian Padat Karya Moyudan dan Tanam Serentak Bibit Kelapa Kopyor di Mergan Sumberagung Moyudan
URL:https://disnaker.slemankab.go.id/event/peresmian-padat-karya-moyudan-dan-tanam-serentak-bibit-kelapa-kopyor-di-mergan-sumberagung-moyudan/
END:VEVENT
BEGIN:VEVENT
DTSTART;TZID=Asia/Krasnoyarsk:20221202T090000
DTEND;TZID=Asia/Krasnoyarsk:20221202T170000
DTSTAMP:20260423T202153
CREATED:20221216T020757Z
LAST-MODIFIED:20221216T020757Z
UID:13414-1669971600-1670000400@disnaker.slemankab.go.id
SUMMARY:Seminar Nasional Peran Penting ISO 27001 dan FDIS ISO/IEC 27071 dalam mengawal Urgensi UU Perlindungan Data Pribadi di Ballroom Hotel Grand Ambarukmo
DESCRIPTION:Seminar Nasional Peran Penting ISO 27001 dan FDIS ISO/IEC 27071 dalam mengawal Urgensi UU Perlindungan Data Pribadi di Ballroom Hotel Grand Ambarukmo
URL:https://disnaker.slemankab.go.id/event/seminar-nasional-peran-penting-iso-27001-dan-fdis-iso-iec-27071-dalam-mengawal-urgensi-uu-perlindungan-data-pribadi-di-ballroom-hotel-grand-ambarukmo/
END:VEVENT
BEGIN:VEVENT
DTSTART;TZID=Asia/Krasnoyarsk:20221201T110000
DTEND;TZID=Asia/Krasnoyarsk:20221201T140000
DTSTAMP:20260423T202153
CREATED:20221216T020532Z
LAST-MODIFIED:20221216T020532Z
UID:13412-1669892400-1669903200@disnaker.slemankab.go.id
SUMMARY:Peringatan Hari AIDS Sedunia di Sleman City Hall R. Atrium Shinta lantai GF
DESCRIPTION:Peringatan Hari AIDS Sedunia di Sleman City Hall R. Atrium Shinta lantai GF
URL:https://disnaker.slemankab.go.id/event/peringatan-hari-aids-sedunia-di-sleman-city-hall-r-atrium-shinta-lantai-gf/
END:VEVENT
BEGIN:VEVENT
DTSTART;TZID=Asia/Krasnoyarsk:20221129T100000
DTEND;TZID=Asia/Krasnoyarsk:20221129T170000
DTSTAMP:20260423T202153
CREATED:20221216T020306Z
LAST-MODIFIED:20221216T020306Z
UID:13410-1669716000-1669741200@disnaker.slemankab.go.id
SUMMARY:Sidang Dewan Pengupahan Kabupaten Sleman dalam rangka Rekomendasi Penyusunan UMK Sleman Tahun 2023 di RR. Sadewa lantai III Disnaker Sleman
DESCRIPTION:Sidang Dewan Pengupahan Kabupaten Sleman dalam rangka Rekomendasi Penyusunan UMK Sleman Tahun 2023 di RR. Sadewa lantai III Disnaker Sleman
URL:https://disnaker.slemankab.go.id/event/sidang-dewan-pengupahan-kabupaten-sleman-dalam-rangka-rekomendasi-penyusunan-umk-sleman-tahun-2023-di-rr-sadewa-lantai-iii-disnaker-sleman/
END:VEVENT
BEGIN:VEVENT
DTSTART;TZID=Asia/Krasnoyarsk:20221129T100000
DTEND;TZID=Asia/Krasnoyarsk:20221129T170000
DTSTAMP:20260423T202153
CREATED:20221216T015416Z
LAST-MODIFIED:20221216T015416Z
UID:13404-1669716000-1669741200@disnaker.slemankab.go.id
SUMMARY:Forum Komunitas Bidang Penempatan Tenaga Kerja Se-DIY di Kopi Puncak Rindu Bantul
DESCRIPTION:Forum Komunitas Bidang Penempatan Tenaga Kerja Se-DIY di Kopi Puncak Rindu Bantul
URL:https://disnaker.slemankab.go.id/event/forum-komunitas-bidang-penempatan-tenaga-kerja-se-diy-di-kopi-puncak-rindu-bantul/
END:VEVENT
BEGIN:VEVENT
DTSTART;TZID=Asia/Krasnoyarsk:20221129T090000
DTEND;TZID=Asia/Krasnoyarsk:20221129T130000
DTSTAMP:20260423T202153
CREATED:20221216T015614Z
LAST-MODIFIED:20221216T015614Z
UID:13406-1669712400-1669726800@disnaker.slemankab.go.id
SUMMARY:Musyawarah Hubungan Industrial PT. Royal D'Paragon Land dengan Karyawan di Ruang Mediasi Disnaker Sleman
DESCRIPTION:Musyawarah Hubungan Industrial PT. Royal D’Paragon Land dengan Karyawan di Ruang Mediasi Disnaker Sleman
URL:https://disnaker.slemankab.go.id/event/musyawarah-hubungan-industrial-pt-royal-dparagon-land-dengan-karyawan-di-ruang-mediasi-disnaker-sleman/
END:VEVENT
BEGIN:VEVENT
DTSTART;TZID=Asia/Krasnoyarsk:20221128T090000
DTEND;TZID=Asia/Krasnoyarsk:20221128T170000
DTSTAMP:20260423T202153
CREATED:20221216T015307Z
LAST-MODIFIED:20221216T015307Z
UID:13402-1669626000-1669654800@disnaker.slemankab.go.id
SUMMARY:Korelasi Penyusunan Analisis Jabatan\, Analisis Beban Kerja dan evaluasi jabatan dalam kebijakan penyusunan TPP Tahun 2023 di The Alana Hotel 
DESCRIPTION:Korelasi Penyusunan Analisis Jabatan\, Analisis Beban Kerja dan evaluasi jabatan dalam kebijakan penyusunan TPP Tahun 2023 di The Alana Hotel 
URL:https://disnaker.slemankab.go.id/event/korelasi-penyusunan-analisis-jabatan-analisis-beban-kerja-dan-evaluasi-jabatan-dalam-kebijakan-penyusunan-tpp-tahun-2023-di-the-alana-hotel/
END:VEVENT
BEGIN:VEVENT
DTSTART;TZID=Asia/Krasnoyarsk:20221125T083000
DTEND;TZID=Asia/Krasnoyarsk:20221125T130000
DTSTAMP:20260423T202153
CREATED:20221216T015209Z
LAST-MODIFIED:20221216T015209Z
UID:13400-1669365000-1669381200@disnaker.slemankab.go.id
SUMMARY:Rencana tindaklanjut hasil FGD Kebijakan Pengupahan di RR. Tirta Jaya Kolam Renang
DESCRIPTION:Rencana tindaklanjut hasil FGD Kebijakan Pengupahan di RR. Tirta Jaya Kolam Renang
URL:https://disnaker.slemankab.go.id/event/rencana-tindaklanjut-hasil-fgd-kebijakan-pengupahan-di-rr-tirta-jaya-kolam-renang/
END:VEVENT
BEGIN:VEVENT
DTSTART;TZID=Asia/Krasnoyarsk:20221124T123000
DTEND;TZID=Asia/Krasnoyarsk:20221124T170000
DTSTAMP:20260423T202153
CREATED:20221216T015055Z
LAST-MODIFIED:20221216T025734Z
UID:13398-1669293000-1669309200@disnaker.slemankab.go.id
SUMMARY:Sarasehan Pengendalian pembangunan dalam rangka pelaksanaan monitoring dan evaluasi kegiatan pembangunan kapanewon Moyudan di Aula Kantor Kalurahan Sumberagung
DESCRIPTION:Sarasehan Pengendalian pembangunan dalam rangka pelaksanaan monitoring dan evaluasi kegiatan pembangunan kapanewon Moyudan di Aula Kantor Kalurahan Sumberagung
URL:https://disnaker.slemankab.go.id/event/sarasehan-pengendalian-pembangunan-dalam-rangka-pelaksanaan-monitoring-dan-evaluasi-kegiatan-pembangunan-kapanewon-moyudan-di-aula-kantor-kalurahan-sumberagung/
END:VEVENT
BEGIN:VEVENT
DTSTART;TZID=Asia/Krasnoyarsk:20221124T090000
DTEND;TZID=Asia/Krasnoyarsk:20221124T130000
DTSTAMP:20260423T202153
CREATED:20221216T014944Z
LAST-MODIFIED:20221216T025631Z
UID:13396-1669280400-1669294800@disnaker.slemankab.go.id
SUMMARY:Narasumber pada acara ForKom Bidang Penempatan TK Se DIY di RM. Pawon Krajan Widomartani Ngemplak
DESCRIPTION:Narasumber pada acara ForKom Bidang Penempatan TK Se DIY di RM. Pawon Krajan Widomartani Ngemplak
URL:https://disnaker.slemankab.go.id/event/narasumber-pada-acara-forkom-bidang-penempatan-tk-se-diy-di-rm-pawon-krajan-widomartani-ngemplak/
END:VEVENT
BEGIN:VEVENT
DTSTART;TZID=Asia/Krasnoyarsk:20221123T090000
DTEND;TZID=Asia/Krasnoyarsk:20221123T130000
DTSTAMP:20260423T202153
CREATED:20221216T014827Z
LAST-MODIFIED:20221216T014853Z
UID:13394-1669194000-1669208400@disnaker.slemankab.go.id
SUMMARY:Koordinasi mediator HI se DIY di RR. Sadewa lantai III Disnaker Sleman
DESCRIPTION:Koordinasi mediator HI se DIY di RR. Sadewa lantai III Disnaker Sleman
URL:https://disnaker.slemankab.go.id/event/koordinasi-mediator-hi-se-diy-di-rr-sadewa-lantai-iii-disnaker-sleman/
END:VEVENT
BEGIN:VEVENT
DTSTART;TZID=Asia/Krasnoyarsk:20221123T090000
DTEND;TZID=Asia/Krasnoyarsk:20221123T120000
DTSTAMP:20260423T202153
CREATED:20221216T014723Z
LAST-MODIFIED:20221216T014723Z
UID:13392-1669194000-1669204800@disnaker.slemankab.go.id
SUMMARY:Rapat Koordinasi ketransmigrasian se-DIY di Pendopo Ingkung Rumah Dhuwur\, Kalakijo
DESCRIPTION:Rapat Koordinasi ketransmigrasian se-DIY di Pendopo Ingkung Rumah Dhuwur\, Kalakijo
URL:https://disnaker.slemankab.go.id/event/rapat-koordinasi-ketransmigrasian-se-diy-di-pendopo-ingkung-rumah-dhuwur-kalakijo/
END:VEVENT
BEGIN:VEVENT
DTSTART;TZID=Asia/Krasnoyarsk:20221122T090000
DTEND;TZID=Asia/Krasnoyarsk:20221122T170000
DTSTAMP:20260423T202153
CREATED:20221216T014522Z
LAST-MODIFIED:20221216T014522Z
UID:13390-1669107600-1669136400@disnaker.slemankab.go.id
SUMMARY:Bimtek Implementasi SIMARDA Versi 2 di Ruang Sadewa lt 3 Disnaker Sleman
DESCRIPTION:Bimtek Implementasi SIMARDA Versi 2 di Ruang Sadewa lt 3 Disnaker Sleman
URL:https://disnaker.slemankab.go.id/event/bimtek-implementasi-simarda-versi-2-di-ruang-sadewa-lt-3-disnaker-sleman/
END:VEVENT
BEGIN:VEVENT
DTSTART;TZID=Asia/Krasnoyarsk:20221121T090000
DTEND;TZID=Asia/Krasnoyarsk:20221121T120000
DTSTAMP:20260423T202153
CREATED:20221216T014351Z
LAST-MODIFIED:20221216T014351Z
UID:13388-1669021200-1669032000@disnaker.slemankab.go.id
SUMMARY:Penyuluhan Program Ketransmigrasian di R Bagaskara Disnakertrans DIY
DESCRIPTION:Penyuluhan Program Ketransmigrasian di R Bagaskara Disnakertrans DIY
URL:https://disnaker.slemankab.go.id/event/penyuluhan-program-ketransmigrasian-di-r-bagaskara-disnakertrans-diy/
END:VEVENT
BEGIN:VEVENT
DTSTART;TZID=Asia/Krasnoyarsk:20221119T150000
DTEND;TZID=Asia/Krasnoyarsk:20221119T170000
DTSTAMP:20260423T202153
CREATED:20221215T084438Z
LAST-MODIFIED:20221215T084438Z
UID:13386-1668870000-1668877200@disnaker.slemankab.go.id
SUMMARY:Raker SP/SB dan APINDO di Satriafi Hotel Hargobinagun
DESCRIPTION:Raker SP/SB dan APINDO di Satriafi Hotel Hargobinagun
URL:https://disnaker.slemankab.go.id/event/raker-sp-sb-dan-apindo-di-satriafi-hotel-hargobinagun/
END:VEVENT
BEGIN:VEVENT
DTSTART;TZID=Asia/Krasnoyarsk:20221118T113000
DTEND;TZID=Asia/Krasnoyarsk:20221118T130000
DTSTAMP:20260423T202153
CREATED:20221215T084342Z
LAST-MODIFIED:20221215T084342Z
UID:13384-1668771000-1668776400@disnaker.slemankab.go.id
SUMMARY:Safari Jum'at Bupati\, Wakil Bupati Sleman dan Kepala OPD Kab. Sleman di Masjid Darussalam\, Tegalan Sidomoyo
DESCRIPTION:Safari Jum’at Bupati\, Wakil Bupati Sleman dan Kepala OPD Kab. Sleman di Masjid Darussalam\, Tegalan Sidomoyo
URL:https://disnaker.slemankab.go.id/event/safari-jumat-bupati-wakil-bupati-sleman-dan-kepala-opd-kab-sleman-di-masjid-darussalam-tegalan-sidomoyo/
END:VEVENT
BEGIN:VEVENT
DTSTART;TZID=Asia/Krasnoyarsk:20221117T130000
DTEND;TZID=Asia/Krasnoyarsk:20221117T170000
DTSTAMP:20260423T202153
CREATED:20221215T084229Z
LAST-MODIFIED:20221215T084229Z
UID:13382-1668690000-1668704400@disnaker.slemankab.go.id
SUMMARY:Memberikan Sambutan pada acara BMD Culinary Festival 2022 di Ballroom Shinta SCH
DESCRIPTION:Memberikan Sambutan pada acara BMD Culinary Festival 2022 di Ballroom Shinta SCH
URL:https://disnaker.slemankab.go.id/event/memberikan-sambutan-pada-acara-bmd-culinary-festival-2022-di-ballroom-shinta-sch/
END:VEVENT
END:VCALENDAR