BEGIN:VCALENDAR
VERSION:2.0
PRODID:-//DINAS TENAGA KERJA - ECPv6.15.11//NONSGML v1.0//EN
CALSCALE:GREGORIAN
METHOD:PUBLISH
X-WR-CALNAME:DINAS TENAGA KERJA
X-ORIGINAL-URL:https://disnaker.slemankab.go.id
X-WR-CALDESC:Events for DINAS TENAGA KERJA
REFRESH-INTERVAL;VALUE=DURATION:PT1H
X-Robots-Tag:noindex
X-PUBLISHED-TTL:PT1H
BEGIN:VTIMEZONE
TZID:Asia/Krasnoyarsk
BEGIN:STANDARD
TZOFFSETFROM:+0700
TZOFFSETTO:+0700
TZNAME:+07
DTSTART:20210101T000000
END:STANDARD
END:VTIMEZONE
BEGIN:VEVENT
DTSTART;TZID=Asia/Krasnoyarsk:20230206T080000
DTEND;TZID=Asia/Krasnoyarsk:20230206T170000
DTSTAMP:20260423T202203
CREATED:20230224T080439Z
LAST-MODIFIED:20230224T080439Z
UID:14327-1675670400-1675702800@disnaker.slemankab.go.id
SUMMARY:Pembukaan Pelatihan Tata Rias Pengantin di LPK Mahkota Bina Karya
DESCRIPTION:Pembukaan Pelatihan Tata Rias Pengantin di LPK Mahkota Bina Karya
URL:https://disnaker.slemankab.go.id/event/pembukaan-pelatihan-tata-rias-pengantin-di-lpk-mahkota-bina-karya/
END:VEVENT
BEGIN:VEVENT
DTSTART;TZID=Asia/Krasnoyarsk:20230206T080000
DTEND;TZID=Asia/Krasnoyarsk:20230206T170000
DTSTAMP:20260423T202203
CREATED:20230224T080344Z
LAST-MODIFIED:20230224T080344Z
UID:14325-1675670400-1675702800@disnaker.slemankab.go.id
SUMMARY:Workshop Commucation Skill Upgrade Kiat menjadi Admin Lapor Idola di Kopi Gajah Sinduharjo 
DESCRIPTION:Workshop Commucation Skill Upgrade Kiat menjadi Admin Lapor Idola di Kopi Gajah Sinduharjo 
URL:https://disnaker.slemankab.go.id/event/workshop-commucation-skill-upgrade-kiat-menjadi-admin-lapor-idola-di-kopi-gajah-sinduharjo/
END:VEVENT
BEGIN:VEVENT
DTSTART;TZID=Asia/Krasnoyarsk:20230203T080000
DTEND;TZID=Asia/Krasnoyarsk:20230203T170000
DTSTAMP:20260423T202203
CREATED:20230224T080025Z
LAST-MODIFIED:20230224T080120Z
UID:14323-1675411200-1675443600@disnaker.slemankab.go.id
SUMMARY:Narasumber dengan materi Ketenagakerjaan dalam rangka pembukaan  Pelatihan Mekanik Sepeda Motor di LPK Prima Nusantara
DESCRIPTION:Narasumber dengan materi Ketenagakerjaan dalam rangka pembukaan Pelatihan Mekanik Sepeda Motor di LPK Prima Nusantara
URL:https://disnaker.slemankab.go.id/event/narasumber-dengan-materi-ketenagakerjaan-dalam-rangka-pembukaan-pelatihan-mekanik-sepeda-motor-di-lpk-prima-nusantara/
END:VEVENT
BEGIN:VEVENT
DTSTART;TZID=Asia/Krasnoyarsk:20230203T080000
DTEND;TZID=Asia/Krasnoyarsk:20230203T170000
DTSTAMP:20260423T202203
CREATED:20230224T075947Z
LAST-MODIFIED:20230224T075947Z
UID:14321-1675411200-1675443600@disnaker.slemankab.go.id
SUMMARY:Pos Pembinaan Terpadu di aula NAkula Disnaker 
DESCRIPTION:Pos Pembinaan Terpadu di aula NAkula Disnaker 
URL:https://disnaker.slemankab.go.id/event/pos-pembinaan-terpadu-di-aula-nakula-disnaker/
END:VEVENT
BEGIN:VEVENT
DTSTART;TZID=Asia/Krasnoyarsk:20230202T080000
DTEND;TZID=Asia/Krasnoyarsk:20230202T120000
DTSTAMP:20260423T202203
CREATED:20230208T045021Z
LAST-MODIFIED:20230208T045311Z
UID:14063-1675324800-1675339200@disnaker.slemankab.go.id
SUMMARY:Narasumber Ketenagakerjaan dan Pembukaan Pelatihan Bordir di LPK JILLI
DESCRIPTION:Narasumber Ketenagakerjaan dan Pembukaan Pelatihan Bordir di LPK JILLI
URL:https://disnaker.slemankab.go.id/event/narasumber-ketenagakerjaan-dan-pembukaan-pelatihan-bordir-di-lpk-jilli/
END:VEVENT
BEGIN:VEVENT
DTSTART;TZID=Asia/Krasnoyarsk:20230201T100000
DTEND;TZID=Asia/Krasnoyarsk:20230201T130000
DTSTAMP:20260423T202203
CREATED:20230208T044033Z
LAST-MODIFIED:20230208T044033Z
UID:14061-1675245600-1675256400@disnaker.slemankab.go.id
SUMMARY:Pembukaan Kegiatan Pelatihan Digital Marketing Kerjasama Dinas Tenaga Kerja dengan LPK IMBIA
DESCRIPTION:Pembukaan Kegiatan Pelatihan Digital Marketing Kerjasama Dinas Tenaga Kerja dengan LPK IMBIA
URL:https://disnaker.slemankab.go.id/event/pembukaan-kegiatan-pelatihan-digital-marketing-kerjasama-dinas-tenaga-kerja-dengan-lpk-imbia/
END:VEVENT
BEGIN:VEVENT
DTSTART;TZID=Asia/Krasnoyarsk:20230201T080000
DTEND;TZID=Asia/Krasnoyarsk:20230201T110000
DTSTAMP:20260423T202203
CREATED:20230208T043852Z
LAST-MODIFIED:20230208T043852Z
UID:14059-1675238400-1675249200@disnaker.slemankab.go.id
SUMMARY:Narasumber Kegiatan Motivasi Building dan Pembekalan di SMK YPKK I Sleman
DESCRIPTION:Narasumber Kegiatan Motivasi Building dan Pembekalan di SMK YPKK I Sleman
URL:https://disnaker.slemankab.go.id/event/narasumber-kegiatan-motivasi-building-dan-pembekalan-di-smk-ypkk-i-sleman/
END:VEVENT
BEGIN:VEVENT
DTSTART;TZID=Asia/Krasnoyarsk:20230131T090000
DTEND;TZID=Asia/Krasnoyarsk:20230131T130000
DTSTAMP:20260423T202203
CREATED:20230208T015859Z
LAST-MODIFIED:20230208T015859Z
UID:14053-1675155600-1675170000@disnaker.slemankab.go.id
SUMMARY:Musrenbang Kapanewon Moyudan dan Gamping 
DESCRIPTION:Musrenbang Kapanewon Moyudan dan Gamping 
URL:https://disnaker.slemankab.go.id/event/musrenbang-kapanewon-moyudan-dan-gamping/
END:VEVENT
BEGIN:VEVENT
DTSTART;TZID=Asia/Krasnoyarsk:20230127T090000
DTEND;TZID=Asia/Krasnoyarsk:20230127T170000
DTSTAMP:20260423T202203
CREATED:20230124T065634Z
LAST-MODIFIED:20230124T065634Z
UID:13968-1674810000-1674838800@disnaker.slemankab.go.id
SUMMARY:SELEKSI KARYAWAN PT INDOMARCO PRISSMATAMA CABANG KLATEN
DESCRIPTION:SELEKSI KARYAWAN PT INDOMARCO PRISSMATAMA CABANG KLATEN
URL:https://disnaker.slemankab.go.id/event/seleksi-karyawan-pt-indomarco-prissmatama-cabang-klaten/
END:VEVENT
BEGIN:VEVENT
DTSTART;TZID=Asia/Krasnoyarsk:20230127T080000
DTEND;TZID=Asia/Krasnoyarsk:20230127T170000
DTSTAMP:20260423T202203
CREATED:20230208T015745Z
LAST-MODIFIED:20230208T015745Z
UID:14051-1674806400-1674838800@disnaker.slemankab.go.id
SUMMARY:Pertemuan Forum Komunikasi Arsiparis di Pawon Purbo Nglanggeran 
DESCRIPTION:Pertemuan Forum Komunikasi Arsiparis di Pawon Purbo Nglanggeran 
URL:https://disnaker.slemankab.go.id/event/pertemuan-forum-komunikasi-arsiparis-di-pawon-purbo-nglanggeran/
END:VEVENT
BEGIN:VEVENT
DTSTART;TZID=Asia/Krasnoyarsk:20230127T080000
DTEND;TZID=Asia/Krasnoyarsk:20230127T170000
DTSTAMP:20260423T202203
CREATED:20230208T015710Z
LAST-MODIFIED:20230208T015710Z
UID:14049-1674806400-1674838800@disnaker.slemankab.go.id
SUMMARY:Sosialisasi Peningkatan Pengguna SP4N-LAPOR dan FGD Evaluasi Reaksi Daerah SP4N-LAPOR di Kabupaten Sleman di Hotel Sheraton Mustika
DESCRIPTION:Sosialisasi Peningkatan Pengguna SP4N-LAPOR dan FGD Evaluasi Reaksi Daerah SP4N-LAPOR di Kabupaten Sleman di Hotel Sheraton Mustika
URL:https://disnaker.slemankab.go.id/event/sosialisasi-peningkatan-pengguna-sp4n-lapor-dan-fgd-evaluasi-reaksi-daerah-sp4n-lapor-di-kabupaten-sleman-di-hotel-sheraton-mustika/
END:VEVENT
BEGIN:VEVENT
DTSTART;TZID=Asia/Krasnoyarsk:20230126T093000
DTEND;TZID=Asia/Krasnoyarsk:20230126T140000
DTSTAMP:20260423T202203
CREATED:20230208T015622Z
LAST-MODIFIED:20230208T015622Z
UID:14047-1674725400-1674741600@disnaker.slemankab.go.id
SUMMARY:Narasumber Bimbingan Karir siswa kelas XII di SMK Nasional Berbah
DESCRIPTION:Narasumber Bimbingan Karir siswa kelas XII di SMK Nasional Berbah
URL:https://disnaker.slemankab.go.id/event/narasumber-bimbingan-karir-siswa-kelas-xii-di-smk-nasional-berbah/
END:VEVENT
BEGIN:VEVENT
DTSTART;TZID=Asia/Krasnoyarsk:20230125T090000
DTEND;TZID=Asia/Krasnoyarsk:20230125T170000
DTSTAMP:20260423T202203
CREATED:20230208T015354Z
LAST-MODIFIED:20230208T015354Z
UID:14045-1674637200-1674666000@disnaker.slemankab.go.id
SUMMARY:Workshop Tripartit di RM. Puri Mataram
DESCRIPTION:Workshop Tripartit di RM. Puri Mataram
URL:https://disnaker.slemankab.go.id/event/workshop-tripartit-di-rm-puri-mataram/
END:VEVENT
BEGIN:VEVENT
DTSTART;TZID=Asia/Krasnoyarsk:20230121T100000
DTEND;TZID=Asia/Krasnoyarsk:20230121T150000
DTSTAMP:20260423T202203
CREATED:20230208T013722Z
LAST-MODIFIED:20230208T013722Z
UID:14043-1674295200-1674313200@disnaker.slemankab.go.id
SUMMARY:Pembukaan Program JPS Pelatihan dan seritifikasi Digital Marketing
DESCRIPTION:Pembukaan Program JPS Pelatihan dan seritifikasi Digital Marketing 
URL:https://disnaker.slemankab.go.id/event/pembukaan-program-jps-pelatihan-dan-seritifikasi-digital-marketing/
END:VEVENT
BEGIN:VEVENT
DTSTART;TZID=Asia/Krasnoyarsk:20230120T080000
DTEND;TZID=Asia/Krasnoyarsk:20230120T130000
DTSTAMP:20260423T202203
CREATED:20230208T012917Z
LAST-MODIFIED:20230208T012917Z
UID:14041-1674201600-1674219600@disnaker.slemankab.go.id
SUMMARY:Temu Konsultasi dan Koordinasi AMHI di Kolam Renang Cafe Tirta Jaya
DESCRIPTION:Temu Konsultasi dan Koordinasi AMHI di Kolam Renang Cafe Tirta Jaya
URL:https://disnaker.slemankab.go.id/event/temu-konsultasi-dan-koordinasi-amhi-di-kolam-renang-cafe-tirta-jaya/
END:VEVENT
BEGIN:VEVENT
DTSTART;TZID=Asia/Krasnoyarsk:20230119T123000
DTEND;TZID=Asia/Krasnoyarsk:20230119T170000
DTSTAMP:20260423T202203
CREATED:20230208T012745Z
LAST-MODIFIED:20230208T012809Z
UID:14039-1674131400-1674147600@disnaker.slemankab.go.id
SUMMARY:Pisah sambut Kapolresta Sleman di Pendopo Parasamya
DESCRIPTION:Pisah sambut Kapolresta Sleman di Pendopo Parasamya
URL:https://disnaker.slemankab.go.id/event/pisah-sambut-kapolresta-sleman-di-pendopo-parasamya/
END:VEVENT
BEGIN:VEVENT
DTSTART;TZID=Asia/Krasnoyarsk:20230118T140000
DTEND;TZID=Asia/Krasnoyarsk:20230118T170000
DTSTAMP:20260423T202203
CREATED:20230118T035746Z
LAST-MODIFIED:20230118T035746Z
UID:13912-1674050400-1674061200@disnaker.slemankab.go.id
SUMMARY:Wawancara Kandidat Penerima Penghargaan Paritrana Award oleh Panitia Penghargaan Jamsostek Pemda DIY di Gedung Pracimosono Sisi Barat Komplek Kepatihan
DESCRIPTION:Wawancara Kandidat Penerima Penghargaan Paritrana Award oleh Panitia Penghargaan Jamsostek Pemda DIY di Gedung Pracimosono Sisi Barat Komplek Kepatihan
URL:https://disnaker.slemankab.go.id/event/wawancara-kandidat-penerima-penghargaan-paritrana-award-oleh-panitia-penghargaan-jamsostek-pemda-diy-di-gedung-pracimosono-sisi-barat-komplek-kepatihan/
END:VEVENT
BEGIN:VEVENT
DTSTART;TZID=Asia/Krasnoyarsk:20230117T073000
DTEND;TZID=Asia/Krasnoyarsk:20230117T120000
DTSTAMP:20260423T202203
CREATED:20230118T042257Z
LAST-MODIFIED:20230118T042257Z
UID:13914-1673940600-1673956800@disnaker.slemankab.go.id
SUMMARY:Undangan menghadiri Acara Career Day 2023 di Lapangan Utara SMK Penerbangan AAG Adisutjipto
DESCRIPTION:Undangan menghadiri Acara Career Day 2023 di Lapangan Utara SMK Penerbangan AAG Adisutjipto
URL:https://disnaker.slemankab.go.id/event/undangan-menghadiri-acara-career-day-2023-di-lapangan-utara-smk-penerbangan-aag-adisutjipto/
END:VEVENT
BEGIN:VEVENT
DTSTART;TZID=Asia/Krasnoyarsk:20230113T130000
DTEND;TZID=Asia/Krasnoyarsk:20230113T170000
DTSTAMP:20260423T202204
CREATED:20230124T013724Z
LAST-MODIFIED:20230124T013724Z
UID:13936-1673614800-1673629200@disnaker.slemankab.go.id
SUMMARY:Rapat persiapan kerjasama pelatihan Tahap I Tahun 2023 di R. Puntodewo Disnaker 
DESCRIPTION:Rapat persiapan kerjasama pelatihan Tahap I Tahun 2023 di R. Puntodewo Disnaker 
URL:https://disnaker.slemankab.go.id/event/rapat-persiapan-kerjasama-pelatihan-tahap-i-tahun-2023-di-r-puntodewo-disnaker/
END:VEVENT
BEGIN:VEVENT
DTSTART;TZID=Asia/Krasnoyarsk:20230112T090000
DTEND;TZID=Asia/Krasnoyarsk:20230112T170000
DTSTAMP:20260423T202204
CREATED:20230124T013542Z
LAST-MODIFIED:20230124T013542Z
UID:13932-1673514000-1673542800@disnaker.slemankab.go.id
SUMMARY:Rekruitmen Bank BTPN di R. Nakula 
DESCRIPTION:Rekruitmen Bank BTPN di R. Nakula 
URL:https://disnaker.slemankab.go.id/event/rekruitmen-bank-btpn-di-r-nakula/
END:VEVENT
BEGIN:VEVENT
DTSTART;TZID=Asia/Krasnoyarsk:20230111T100000
DTEND;TZID=Asia/Krasnoyarsk:20230111T170000
DTSTAMP:20260423T202204
CREATED:20230124T012628Z
LAST-MODIFIED:20230124T012628Z
UID:13926-1673431200-1673456400@disnaker.slemankab.go.id
SUMMARY:Rekrutment PT. PNM di R. Sadewa Disnaker 
DESCRIPTION:Rekrutment PT. PNM di R. Sadewa Disnaker 
URL:https://disnaker.slemankab.go.id/event/rekrutment-pt-pnm-di-r-sadewa-disnaker/
END:VEVENT
BEGIN:VEVENT
DTSTART;TZID=Asia/Krasnoyarsk:20230111T100000
DTEND;TZID=Asia/Krasnoyarsk:20230111T170000
DTSTAMP:20260423T202204
CREATED:20230124T012350Z
LAST-MODIFIED:20230124T012350Z
UID:13923-1673431200-1673456400@disnaker.slemankab.go.id
SUMMARY:Rekrutment PT. Mikro Madani di R. NAkula Disnaker
DESCRIPTION:Rekrutment PT. Mikro Madani di R. NAkula Disnaker
URL:https://disnaker.slemankab.go.id/event/rekrutment-pt-mikro-madani-di-r-nakula-disnaker/
END:VEVENT
BEGIN:VEVENT
DTSTART;TZID=Asia/Krasnoyarsk:20230111T083000
DTEND;TZID=Asia/Krasnoyarsk:20230111T130000
DTSTAMP:20260423T202204
CREATED:20230124T012228Z
LAST-MODIFIED:20230124T012228Z
UID:13921-1673425800-1673442000@disnaker.slemankab.go.id
SUMMARY:Grand Opening PT. BPR Syariah Sleman Persero 
DESCRIPTION:Grand Opening PT. BPR Syariah Sleman Persero 
URL:https://disnaker.slemankab.go.id/event/grand-opening-pt-bpr-syariah-sleman-persero/
END:VEVENT
BEGIN:VEVENT
DTSTART;TZID=Asia/Krasnoyarsk:20230110T080000
DTEND;TZID=Asia/Krasnoyarsk:20230110T170000
DTSTAMP:20260423T202204
CREATED:20230124T011808Z
LAST-MODIFIED:20230124T011808Z
UID:13919-1673337600-1673370000@disnaker.slemankab.go.id
SUMMARY:Seleksi pencaker PT. Lawson di R. Sadewa Disnaker Sleman
DESCRIPTION:Seleksi pencaker PT. Lawson di R. Sadewa Disnaker Sleman
URL:https://disnaker.slemankab.go.id/event/seleksi-pencaker-pt-lawson-di-r-sadewa-disnaker-sleman/
END:VEVENT
BEGIN:VEVENT
DTSTART;TZID=Asia/Krasnoyarsk:20230109T093000
DTEND;TZID=Asia/Krasnoyarsk:20230109T093000
DTSTAMP:20260423T202204
CREATED:20230124T011457Z
LAST-MODIFIED:20230124T011457Z
UID:13917-1673256600-1673256600@disnaker.slemankab.go.id
SUMMARY:Rapat Tim dalam rangka pelaksanaan kegiatan penyelesaian PHI\, Mogok kerja dan penutupan perusahaan di ruang Mediasi Disnaker
DESCRIPTION:Rapat Tim dalam rangka pelaksanaan kegiatan penyelesaian PHI\, Mogok kerja dan penutupan perusahaan di ruang Mediasi Disnaker
URL:https://disnaker.slemankab.go.id/event/rapat-tim-dalam-rangka-pelaksanaan-kegiatan-penyelesaian-phi-mogok-kerja-dan-penutupan-perusahaan-di-ruang-mediasi-disnaker/
END:VEVENT
BEGIN:VEVENT
DTSTART;TZID=Asia/Krasnoyarsk:20230106T090000
DTEND;TZID=Asia/Krasnoyarsk:20230106T170000
DTSTAMP:20260423T202204
CREATED:20230118T033702Z
LAST-MODIFIED:20230118T033702Z
UID:13909-1672995600-1673024400@disnaker.slemankab.go.id
SUMMARY:Seleksi Balens Optik di Aula Nakula Lt. III
DESCRIPTION:Seleksi Balens Optik di Aula Nakula Lt. III
URL:https://disnaker.slemankab.go.id/event/seleksi-balens-optik-di-aula-nakula-lt-iii/
END:VEVENT
BEGIN:VEVENT
DTSTART;TZID=Asia/Krasnoyarsk:20230104T090000
DTEND;TZID=Asia/Krasnoyarsk:20230104T120000
DTSTAMP:20260423T202204
CREATED:20221221T074331Z
LAST-MODIFIED:20221221T074331Z
UID:13555-1672822800-1672833600@disnaker.slemankab.go.id
SUMMARY:Seleksi Calon Karyawan Store Crew PT Indomarco Prismatama Cabang Klaten
DESCRIPTION:PT Indomarco Prismatama Cabang Klaten akan mengadakan seleksi calon karyawan untuk posisi Store Crew pada : \nHari/Tanggal    : Rabu/04 janurai 2023 \nJam                : 09.00 WIB \nTempat           : Aula Disnaker Sleman \n 
URL:https://disnaker.slemankab.go.id/event/seleksi-calon-karyawan-store-crew-pt-indomarco-prismatama-cabang-klaten/
END:VEVENT
BEGIN:VEVENT
DTSTART;TZID=Asia/Krasnoyarsk:20221226T083000
DTEND;TZID=Asia/Krasnoyarsk:20221226T170000
DTSTAMP:20260423T202204
CREATED:20221226T015641Z
LAST-MODIFIED:20221226T015641Z
UID:13599-1672043400-1672074000@disnaker.slemankab.go.id
SUMMARY:Tes Wawancara PT TEC Batam di Ruang Nakula lt 3 Disnaker Sleman
DESCRIPTION:Tes Wawancara PT TEC Batam di Ruang Nakula lt 3 Disnaker Sleman
URL:https://disnaker.slemankab.go.id/event/tes-wawancara-pt-tec-batam-di-ruang-nakula-lt-3-disnaker-sleman/
END:VEVENT
BEGIN:VEVENT
DTSTART;TZID=Asia/Krasnoyarsk:20221220T083000
DTEND;TZID=Asia/Krasnoyarsk:20221220T120000
DTSTAMP:20260423T202204
CREATED:20221219T090231Z
LAST-MODIFIED:20221219T090231Z
UID:13482-1671525000-1671537600@disnaker.slemankab.go.id
SUMMARY:menghadiri HUT XXII DWP Tahun 2022 di Pendopo Rumah Dinas Bupati
DESCRIPTION:menghadiri HUT XXII DWP Tahun 2022 di Pendopo Rumah Dinas Bupati
URL:https://disnaker.slemankab.go.id/event/menghadiri-hut-xxii-dwp-tahun-2022-di-pendopo-rumah-dinas-bupati/
END:VEVENT
BEGIN:VEVENT
DTSTART;TZID=Asia/Krasnoyarsk:20221220T080000
DTEND;TZID=Asia/Krasnoyarsk:20221220T110000
DTSTAMP:20260423T202204
CREATED:20221219T090145Z
LAST-MODIFIED:20221219T090145Z
UID:13480-1671523200-1671534000@disnaker.slemankab.go.id
SUMMARY:Menerima tamu dari Dinas Ketenagakerjaan Kabupaten Langkat terkait Pelatihan yang ada di UPTD BLK di UPT BLK
DESCRIPTION:Menerima tamu dari Dinas Ketenagakerjaan Kabupaten Langkat terkait Pelatihan yang ada di UPTD BLK di UPT BLK
URL:https://disnaker.slemankab.go.id/event/menerima-tamu-dari-dinas-ketenagakerjaan-kabupaten-langkat-terkait-pelatihan-yang-ada-di-uptd-blk-di-upt-blk/
END:VEVENT
END:VCALENDAR