BEGIN:VCALENDAR
VERSION:2.0
PRODID:-//DINAS TENAGA KERJA - ECPv6.15.11//NONSGML v1.0//EN
CALSCALE:GREGORIAN
METHOD:PUBLISH
X-ORIGINAL-URL:https://disnaker.slemankab.go.id
X-WR-CALDESC:Events for DINAS TENAGA KERJA
REFRESH-INTERVAL;VALUE=DURATION:PT1H
X-Robots-Tag:noindex
X-PUBLISHED-TTL:PT1H
BEGIN:VTIMEZONE
TZID:Asia/Krasnoyarsk
BEGIN:STANDARD
TZOFFSETFROM:+0700
TZOFFSETTO:+0700
TZNAME:+07
DTSTART:20240101T000000
END:STANDARD
END:VTIMEZONE
BEGIN:VEVENT
DTSTART;TZID=Asia/Krasnoyarsk:20250701T093000
DTEND;TZID=Asia/Krasnoyarsk:20250701T110000
DTSTAMP:20260423T202140
CREATED:20250822T063605Z
LAST-MODIFIED:20250822T063605Z
UID:19103-1751362200-1751367600@disnaker.slemankab.go.id
SUMMARY:Pembukaan Pelatihan bidang tataboga tahun 2025 sekaligus sebagai narasumber di LPK Kayumanis Saren Sumberrahayu Moyudan Sleman.
DESCRIPTION:Pembukaan Pelatihan bidang tataboga tahun 2025 sekaligus sebagai narasumber di LPK Kayumanis Saren Sumberrahayu Moyudan Sleman.
URL:https://disnaker.slemankab.go.id/event/pembukaan-pelatihan-bidang-tataboga-tahun-2025-sekaligus-sebagai-narasumber-di-lpk-kayumanis-saren-sumberrahayu-moyudan-sleman/
END:VEVENT
BEGIN:VEVENT
DTSTART;TZID=Asia/Krasnoyarsk:20250702T090000
DTEND;TZID=Asia/Krasnoyarsk:20250702T110000
DTSTAMP:20260423T202140
CREATED:20250822T063719Z
LAST-MODIFIED:20250822T063719Z
UID:19105-1751446800-1751454000@disnaker.slemankab.go.id
SUMMARY:Pembukaan Pelatihan Bidang Tata Boga tahun 2025 sekaligus sebagai narasumber di LPK Budi Mulia
DESCRIPTION:Pembukaan Pelatihan Bidang Tata Boga tahun 2025 sekaligus sebagai narasumber di LPK Budi Mulia
URL:https://disnaker.slemankab.go.id/event/pembukaan-pelatihan-bidang-tata-boga-tahun-2025-sekaligus-sebagai-narasumber-di-lpk-budi-mulia/
END:VEVENT
BEGIN:VEVENT
DTSTART;TZID=Asia/Krasnoyarsk:20250708T090000
DTEND;TZID=Asia/Krasnoyarsk:20250708T110000
DTSTAMP:20260423T202140
CREATED:20250822T063957Z
LAST-MODIFIED:20250822T063957Z
UID:19107-1751965200-1751972400@disnaker.slemankab.go.id
SUMMARY:Memperingati Hari Pekerja Rumah Tangga Internasional sekaligus HUT PT Srikandi Mandiri Duta Mulia di Pendopo RM Sendang Ayu
DESCRIPTION:Memperingati Hari Pekerja Rumah Tangga Internasional sekaligus HUT PT Srikandi Mandiri Duta Mulia di Pendopo RM Sendang Ayu
URL:https://disnaker.slemankab.go.id/event/memperingati-hari-pekerja-rumah-tangga-internasional-sekaligus-hut-pt-srikandi-mandiri-duta-mulia-di-pendopo-rm-sendang-ayu/
END:VEVENT
BEGIN:VEVENT
DTSTART;TZID=Asia/Krasnoyarsk:20250709T090000
DTEND;TZID=Asia/Krasnoyarsk:20250709T110000
DTSTAMP:20260423T202140
CREATED:20250822T065030Z
LAST-MODIFIED:20250822T065030Z
UID:19109-1752051600-1752058800@disnaker.slemankab.go.id
SUMMARY:Pembukaan Pelatihan Kerja Program JPS di LPK Trilogika Edutama
DESCRIPTION:Pembukaan Pelatihan Kerja Program JPS di LPK Trilogika Edutama
URL:https://disnaker.slemankab.go.id/event/pembukaan-pelatihan-kerja-program-jps-di-lpk-trilogika-edutama/
END:VEVENT
BEGIN:VEVENT
DTSTART;TZID=Asia/Krasnoyarsk:20250710T080000
DTEND;TZID=Asia/Krasnoyarsk:20250710T170000
DTSTAMP:20260423T202140
CREATED:20250822T065433Z
LAST-MODIFIED:20250822T065433Z
UID:19111-1752134400-1752166800@disnaker.slemankab.go.id
SUMMARY:Rekruitmen PT Marel Sukses Pratama di RR Sadewa Disnaker
DESCRIPTION:Rekruitmen PT Marel Sukses Pratama di RR Sadewa Disnaker
URL:https://disnaker.slemankab.go.id/event/rekruitmen-pt-marel-sukses-pratama-di-rr-sadewa-disnaker/
END:VEVENT
BEGIN:VEVENT
DTSTART;TZID=Asia/Krasnoyarsk:20250715T083000
DTEND;TZID=Asia/Krasnoyarsk:20250715T110000
DTSTAMP:20260423T202140
CREATED:20250822T070411Z
LAST-MODIFIED:20250822T070411Z
UID:19113-1752568200-1752577200@disnaker.slemankab.go.id
SUMMARY:Narasumber Kegiatan Seminar Motivasi dan Kesiapan Kerja di SMK Diponegoro Depok
DESCRIPTION:Narasumber Kegiatan Seminar Motivasi dan Kesiapan Kerja di SMK Diponegoro Depok \n 
URL:https://disnaker.slemankab.go.id/event/narasumber-kegiatan-seminar-motivasi-dan-kesiapan-kerja-di-smk-diponegoro-depok/
END:VEVENT
BEGIN:VEVENT
DTSTART;TZID=Asia/Krasnoyarsk:20250718T130000
DTEND;TZID=Asia/Krasnoyarsk:20250718T150000
DTSTAMP:20260423T202140
CREATED:20250822T070622Z
LAST-MODIFIED:20250822T070622Z
UID:19115-1752843600-1752850800@disnaker.slemankab.go.id
SUMMARY:Pembukaan sekaligus sebagai narasumber pelatihan Dana DBHCHT Tahun 2025 jurusan Tata Boga di PT Sata Jaya Sejahtera Cebongan Lor
DESCRIPTION:Pembukaan sekaligus sebagai narasumber pelatihan Dana DBHCHT Tahun 2025 jurusan Tata Boga di PT Sata Jaya Sejahtera Cebongan Lor
URL:https://disnaker.slemankab.go.id/event/pembukaan-sekaligus-sebagai-narasumber-pelatihan-dana-dbhcht-tahun-2025-jurusan-tata-boga-di-pt-sata-jaya-sejahtera-cebongan-lor/
END:VEVENT
BEGIN:VEVENT
DTSTART;TZID=Asia/Krasnoyarsk:20250722T083000
DTEND;TZID=Asia/Krasnoyarsk:20250722T120000
DTSTAMP:20260423T202140
CREATED:20250822T070727Z
LAST-MODIFIED:20250822T070727Z
UID:19117-1753173000-1753185600@disnaker.slemankab.go.id
SUMMARY:Pembukaan "Kulon Progo Job Fair Tahun 2025" yang diselenggarakan oleh Dinas Tenaga Kerja Kabupaten Kulon Progo di Exhibition Hall Taman Budaya Kulon Progo
DESCRIPTION:Pembukaan “Kulon Progo Job Fair Tahun 2025” yang diselenggarakan oleh Dinas Tenaga Kerja Kabupaten Kulon Progo di Exhibition Hall Taman Budaya Kulon Progo
URL:https://disnaker.slemankab.go.id/event/pembukaan-kulon-progo-job-fair-tahun-2025-yang-diselenggarakan-oleh-dinas-tenaga-kerja-kabupaten-kulon-progo-di-exhibition-hall-taman-budaya-kulon-progo/
END:VEVENT
BEGIN:VEVENT
DTSTART;TZID=Asia/Krasnoyarsk:20250723T080000
DTEND;TZID=Asia/Krasnoyarsk:20250723T170000
DTSTAMP:20260423T202140
CREATED:20250822T070819Z
LAST-MODIFIED:20250822T070819Z
UID:19119-1753257600-1753290000@disnaker.slemankab.go.id
SUMMARY:Seleksi PT Swakarsa Insan Mandiri di R Sadewa Disnaker
DESCRIPTION:Seleksi PT Swakarsa Insan Mandiri di R Sadewa Disnaker
URL:https://disnaker.slemankab.go.id/event/seleksi-pt-swakarsa-insan-mandiri-di-r-sadewa-disnaker/
END:VEVENT
BEGIN:VEVENT
DTSTART;TZID=Asia/Krasnoyarsk:20250724T093000
DTEND;TZID=Asia/Krasnoyarsk:20250724T113000
DTSTAMP:20260423T202140
CREATED:20250822T070904Z
LAST-MODIFIED:20250822T070904Z
UID:19121-1753349400-1753356600@disnaker.slemankab.go.id
SUMMARY:Pembukaan Pelatihan Terapi SPA Program JPS Tahun 2025 di LPK TSAMARA
DESCRIPTION:Pembukaan Pelatihan Terapi SPA Program JPS Tahun 2025 di LPK TSAMARA
URL:https://disnaker.slemankab.go.id/event/pembukaan-pelatihan-terapi-spa-program-jps-tahun-2025-di-lpk-tsamara/
END:VEVENT
BEGIN:VEVENT
DTSTART;TZID=Asia/Krasnoyarsk:20250730T090000
DTEND;TZID=Asia/Krasnoyarsk:20250730T120000
DTSTAMP:20260423T202140
CREATED:20250822T071151Z
LAST-MODIFIED:20250822T071151Z
UID:19125-1753866000-1753876800@disnaker.slemankab.go.id
SUMMARY:Workshop Keadilan Iklim dan Kepemimpinan perempuan muda penyandang Disabilitas di Hotel Tara
DESCRIPTION:Workshop Keadilan Iklim dan Kepemimpinan perempuan muda penyandang Disabilitas di Hotel Tara
URL:https://disnaker.slemankab.go.id/event/workshop-keadilan-iklim-dan-kepemimpinan-perempuan-muda-penyandang-disabilitas-di-hotel-tara/
END:VEVENT
BEGIN:VEVENT
DTSTART;TZID=Asia/Krasnoyarsk:20250731T140000
DTEND;TZID=Asia/Krasnoyarsk:20250731T160000
DTSTAMP:20260423T202140
CREATED:20250822T071030Z
LAST-MODIFIED:20250822T071030Z
UID:19123-1753970400-1753977600@disnaker.slemankab.go.id
SUMMARY:Penutupan kegiatan Pelatihan Komputer program JPS di LPK IMBIA Sidoarum. Godean. Sleman.
DESCRIPTION:Penutupan kegiatan Pelatihan Komputer program JPS di LPK IMBIA Sidoarum. Godean. Sleman.
URL:https://disnaker.slemankab.go.id/event/penutupan-kegiatan-pelatihan-komputer-program-jps-di-lpk-imbia-sidoarum-godean-sleman/
END:VEVENT
BEGIN:VEVENT
DTSTART;TZID=Asia/Krasnoyarsk:20250801T090000
DTEND;TZID=Asia/Krasnoyarsk:20250801T113000
DTSTAMP:20260423T202141
CREATED:20250822T071407Z
LAST-MODIFIED:20250822T071407Z
UID:19127-1754038800-1754047800@disnaker.slemankab.go.id
SUMMARY:Pembukaan pelatihan program membatik sekaligus menjadi narasumber di LPK Lancar Jaya \, Getas Ganedekan\, Tlogoadi\, Mlati
DESCRIPTION:Pembukaan pelatihan program membatik sekaligus menjadi narasumber di LPK Lancar Jaya \, Getas Ganedekan\, Tlogoadi\, Mlati
URL:https://disnaker.slemankab.go.id/event/pembukaan-pelatihan-program-membatik-sekaligus-menjadi-narasumber-di-lpk-lancar-jaya-getas-ganedekan-tlogoadi-mlati/
END:VEVENT
BEGIN:VEVENT
DTSTART;TZID=Asia/Krasnoyarsk:20250804T100000
DTEND;TZID=Asia/Krasnoyarsk:20250804T130000
DTSTAMP:20260423T202141
CREATED:20250822T071545Z
LAST-MODIFIED:20250822T071545Z
UID:19129-1754301600-1754312400@disnaker.slemankab.go.id
SUMMARY:Membuka Kegiatan secara Resmi Pelatihan Desain Grafis sekaligus sebagai Narasumber di LPK IMBIA
DESCRIPTION:Membuka Kegiatan secara Resmi Pelatihan Desain Grafis sekaligus sebagai Narasumber di LPK IMBIA
URL:https://disnaker.slemankab.go.id/event/membuka-kegiatan-secara-resmi-pelatihan-desain-grafis-sekaligus-sebagai-narasumber-di-lpk-imbia/
END:VEVENT
BEGIN:VEVENT
DTSTART;TZID=Asia/Krasnoyarsk:20250805T083000
DTEND;TZID=Asia/Krasnoyarsk:20250805T110000
DTSTAMP:20260423T202141
CREATED:20250822T071638Z
LAST-MODIFIED:20250822T071638Z
UID:19131-1754382600-1754391600@disnaker.slemankab.go.id
SUMMARY:Pembukaan Progam Pelatihan Berbasis Kompetensi proglat Spa Terapist syariah sekaligus menjadi narasumber di BLK Komunitas Ponpes Albarokah Sukunan Banyuraden Gamping
DESCRIPTION:Pembukaan Progam Pelatihan Berbasis Kompetensi proglat Spa Terapist syariah sekaligus menjadi narasumber di BLK Komunitas Ponpes Albarokah Sukunan Banyuraden Gamping
URL:https://disnaker.slemankab.go.id/event/pembukaan-progam-pelatihan-berbasis-kompetensi-proglat-spa-terapist-syariah-sekaligus-menjadi-narasumber-di-blk-komunitas-ponpes-albarokah-sukunan-banyuraden-gamping/
END:VEVENT
BEGIN:VEVENT
DTSTART;TZID=Asia/Krasnoyarsk:20250806T093000
DTEND;TZID=Asia/Krasnoyarsk:20250806T110000
DTSTAMP:20260423T202141
CREATED:20250822T071743Z
LAST-MODIFIED:20250822T071743Z
UID:19133-1754472600-1754478000@disnaker.slemankab.go.id
SUMMARY:Penutupan Pelatihan Terapi SPA program JPS Tahun 2025 di LPK Tsamara Sumber Kidul Kalitirto Berbah
DESCRIPTION:Penutupan Pelatihan Terapi SPA program JPS Tahun 2025 di LPK Tsamara Sumber Kidul Kalitirto Berbah
URL:https://disnaker.slemankab.go.id/event/penutupan-pelatihan-terapi-spa-program-jps-tahun-2025-di-lpk-tsamara-sumber-kidul-kalitirto-berbah/
END:VEVENT
BEGIN:VEVENT
DTSTART;TZID=Asia/Krasnoyarsk:20250808T083000
DTEND;TZID=Asia/Krasnoyarsk:20250808T110000
DTSTAMP:20260423T202141
CREATED:20250822T071847Z
LAST-MODIFIED:20250822T071847Z
UID:19135-1754641800-1754650800@disnaker.slemankab.go.id
SUMMARY:Memberikan sambutan dalam pembukaan acara Integrated Career Days 2025 di Ruang Auditorium KH. Abdul Kahar Muzakkir UII
DESCRIPTION:Memberikan sambutan dalam pembukaan acara Integrated Career Days 2025 di Ruang Auditorium KH. Abdul Kahar Muzakkir UII
URL:https://disnaker.slemankab.go.id/event/memberikan-sambutan-dalam-pembukaan-acara-integrated-career-days-2025-di-ruang-auditorium-kh-abdul-kahar-muzakkir-uii/
END:VEVENT
BEGIN:VEVENT
DTSTART;TZID=Asia/Krasnoyarsk:20250809T190000
DTEND;TZID=Asia/Krasnoyarsk:20250809T210000
DTSTAMP:20260423T202141
CREATED:20250822T071945Z
LAST-MODIFIED:20250822T071945Z
UID:19137-1754766000-1754773200@disnaker.slemankab.go.id
SUMMARY:Menghadiri TRANSMIGRASI FEST & CULTURE “PAGELARAN WAYANG KULIT & FESTIVAL KULINER di LAPANGAN PASEBAN BANTUL
DESCRIPTION:Menghadiri TRANSMIGRASI FEST & CULTURE “PAGELARAN WAYANG KULIT & FESTIVAL KULINER di LAPANGAN PASEBAN BANTUL
URL:https://disnaker.slemankab.go.id/event/menghadiri-transmigrasi-fest-culture-pagelaran-wayang-kulit-festival-kuliner-di-lapangan-paseban-bantul/
END:VEVENT
BEGIN:VEVENT
DTSTART;TZID=Asia/Krasnoyarsk:20250810T200000
DTEND;TZID=Asia/Krasnoyarsk:20250810T220000
DTSTAMP:20260423T202141
CREATED:20250822T072046Z
LAST-MODIFIED:20250822T072046Z
UID:19139-1754856000-1754863200@disnaker.slemankab.go.id
SUMMARY:Narasumber Sosialisasi Pelatihan Business Development untuk anggota Karangtaruna Parikesit Wedomartani di Pendopo Kalurahan Wedomartani
DESCRIPTION:Narasumber Sosialisasi Pelatihan Business Development untuk anggota Karangtaruna Parikesit Wedomartani di Pendopo Kalurahan Wedomartani
URL:https://disnaker.slemankab.go.id/event/narasumber-sosialisasi-pelatihan-business-development-untuk-anggota-karangtaruna-parikesit-wedomartani-di-pendopo-kalurahan-wedomartani/
END:VEVENT
BEGIN:VEVENT
DTSTART;TZID=Asia/Krasnoyarsk:20250902T080000
DTEND;TZID=Asia/Krasnoyarsk:20250902T110000
DTSTAMP:20260423T202141
CREATED:20251223T043444Z
LAST-MODIFIED:20251223T043843Z
UID:19937-1756800000-1756810800@disnaker.slemankab.go.id
SUMMARY:Menghadiri Pembukaan Pelatihan dan Permohonan Narasumber di Gedung BLK Daaru Hiraa
DESCRIPTION:Menghadiri Pembukaan Pelatihan dan Permohonan Narasumber di Gedung BLK Daaru Hiraa
URL:https://disnaker.slemankab.go.id/event/menghadiri-pembukaan-pelatihan-dan-permohonan-narasumber-di-gedung-blk-daaru-hiraa/
END:VEVENT
BEGIN:VEVENT
DTSTART;TZID=Asia/Krasnoyarsk:20250908T080000
DTEND;TZID=Asia/Krasnoyarsk:20250908T110000
DTSTAMP:20260423T202141
CREATED:20251223T043808Z
LAST-MODIFIED:20251223T043808Z
UID:19939-1757318400-1757329200@disnaker.slemankab.go.id
SUMMARY:Penutupan Pelatihan Drone Aerial Program JPS di LPK PPDI
DESCRIPTION:Penutupan Pelatihan Drone Aerial Program JPS di LPK PPDI
URL:https://disnaker.slemankab.go.id/event/penutupan-pelatihan-drone-aerial-program-jps-di-lpk-ppdi/
END:VEVENT
BEGIN:VEVENT
DTSTART;TZID=Asia/Krasnoyarsk:20250915T080000
DTEND;TZID=Asia/Krasnoyarsk:20250915T113000
DTSTAMP:20260423T202141
CREATED:20251223T043945Z
LAST-MODIFIED:20251223T043945Z
UID:19941-1757923200-1757935800@disnaker.slemankab.go.id
SUMMARY:Narasumber Sosialisasi Ketenagakerjaan di SMK Taman Karya Madya Ngemplak
DESCRIPTION:Narasumber Sosialisasi Ketenagakerjaan di SMK Taman Karya Madya Ngemplak
URL:https://disnaker.slemankab.go.id/event/narasumber-sosialisasi-ketenagakerjaan-di-smk-taman-karya-madya-ngemplak/
END:VEVENT
BEGIN:VEVENT
DTSTART;TZID=Asia/Krasnoyarsk:20250915T080000
DTEND;TZID=Asia/Krasnoyarsk:20250915T170000
DTSTAMP:20260423T202141
CREATED:20251223T030755Z
LAST-MODIFIED:20251223T030755Z
UID:19934-1757923200-1757955600@disnaker.slemankab.go.id
SUMMARY:Narasumber pada acara Pembukaan Pelatihan Institusional Angkatan III Tahun 2025 di Aula BLK
DESCRIPTION:Narasumber pada acara Pembukaan Pelatihan Institusional Angkatan III Tahun 2025 di Aula BLK
URL:https://disnaker.slemankab.go.id/event/narasumber-pada-acara-pembukaan-pelatihan-institusional-angkatan-iii-tahun-2025-di-aula-blk/
END:VEVENT
BEGIN:VEVENT
DTSTART;TZID=Asia/Krasnoyarsk:20251001T110000
DTEND;TZID=Asia/Krasnoyarsk:20251001T150000
DTSTAMP:20260423T202141
CREATED:20251223T044100Z
LAST-MODIFIED:20251223T044100Z
UID:19943-1759316400-1759330800@disnaker.slemankab.go.id
SUMMARY:Pembukaan Pelatihan Kejuruan Tata Boga di BLK Komunitas PPM MBS Prambanan
DESCRIPTION:Pembukaan Pelatihan Kejuruan Tata Boga di BLK Komunitas PPM MBS Prambanan
URL:https://disnaker.slemankab.go.id/event/pembukaan-pelatihan-kejuruan-tata-boga-di-blk-komunitas-ppm-mbs-prambanan/
END:VEVENT
BEGIN:VEVENT
DTSTART;TZID=Asia/Krasnoyarsk:20251006T080000
DTEND;TZID=Asia/Krasnoyarsk:20251006T170000
DTSTAMP:20260423T202141
CREATED:20251223T044141Z
LAST-MODIFIED:20251223T044141Z
UID:19945-1759737600-1759770000@disnaker.slemankab.go.id
SUMMARY:Narasumber Sosialisasi Penempatan Tenaga Kerja di  SMK N 1 Depok
DESCRIPTION:Narasumber Sosialisasi Penempatan Tenaga Kerja di SMK N 1 Depok
URL:https://disnaker.slemankab.go.id/event/narasumber-sosialisasi-penempatan-tenaga-kerja-di-smk-n-1-depok/
END:VEVENT
BEGIN:VEVENT
DTSTART;TZID=Asia/Krasnoyarsk:20251009T133000
DTEND;TZID=Asia/Krasnoyarsk:20251009T170000
DTSTAMP:20260423T202141
CREATED:20251223T044237Z
LAST-MODIFIED:20251223T044237Z
UID:19947-1760016600-1760029200@disnaker.slemankab.go.id
SUMMARY:Narasumber Kegiatan Seminar Kesehatan Mental dengan Tema Kebijakan Pemerintah Daerah  terhadap Pekerja Migran Indonesia di Hotel Ramada
DESCRIPTION:Narasumber Kegiatan Seminar Kesehatan Mental dengan Tema Kebijakan Pemerintah Daerah terhadap Pekerja Migran Indonesia di Hotel Ramada
URL:https://disnaker.slemankab.go.id/event/narasumber-kegiatan-seminar-kesehatan-mental-dengan-tema-kebijakan-pemerintah-daerah-terhadap-pekerja-migran-indonesia-di-hotel-ramada/
END:VEVENT
BEGIN:VEVENT
DTSTART;TZID=Asia/Krasnoyarsk:20251023T090000
DTEND;TZID=Asia/Krasnoyarsk:20251023T170000
DTSTAMP:20260423T202141
CREATED:20251223T050057Z
LAST-MODIFIED:20251223T050057Z
UID:19949-1761210000-1761238800@disnaker.slemankab.go.id
SUMMARY:Fasilitasi Seleksi Pekerja (Taksi Pekerja) periode Oktober 2025 di Lantai 2 Mall Pelayanan Publik
DESCRIPTION:Fasilitasi Seleksi Pekerja (Taksi Pekerja) periode Oktober 2025 di Lantai 2 Mall Pelayanan Publik
URL:https://disnaker.slemankab.go.id/event/fasilitasi-seleksi-pekerja-taksi-pekerja-periode-oktober-2025-di-lantai-2-mall-pelayanan-publik/
END:VEVENT
BEGIN:VEVENT
DTSTART;TZID=Asia/Krasnoyarsk:20251024T080000
DTEND;TZID=Asia/Krasnoyarsk:20251024T170000
DTSTAMP:20260423T202141
CREATED:20251223T050243Z
LAST-MODIFIED:20251223T050243Z
UID:19951-1761292800-1761325200@disnaker.slemankab.go.id
SUMMARY:Narasumber pada penutupan pelatihan institusional angkatan III Dana APBD tahun 2025 di Aula BLK
DESCRIPTION:Narasumber pada penutupan pelatihan institusional angkatan III Dana APBD tahun 2025 di Aula BLK
URL:https://disnaker.slemankab.go.id/event/narasumber-pada-penutupan-pelatihan-institusional-angkatan-iii-dana-apbd-tahun-2025-di-aula-blk/
END:VEVENT
BEGIN:VEVENT
DTSTART;TZID=Asia/Krasnoyarsk:20251103T090000
DTEND;TZID=Asia/Krasnoyarsk:20251103T170000
DTSTAMP:20260423T202141
CREATED:20251223T071824Z
LAST-MODIFIED:20251223T071824Z
UID:19956-1762160400-1762189200@disnaker.slemankab.go.id
SUMMARY:Peresmian Padat Karya APBD Sleman Tahap 2 T.A. 2025 Watuadeg\, Jogotirto\, Berbah
DESCRIPTION:Peresmian Padat Karya APBD Sleman Tahap 2 T.A. 2025 Watuadeg\, Jogotirto\, Berbah
URL:https://disnaker.slemankab.go.id/event/peresmian-padat-karya-apbd-sleman-tahap-2-t-a-2025-watuadeg-jogotirto-berbah/
END:VEVENT
BEGIN:VEVENT
DTSTART;TZID=Asia/Krasnoyarsk:20251104T090000
DTEND;TZID=Asia/Krasnoyarsk:20251104T140000
DTSTAMP:20260423T202141
CREATED:20251223T071944Z
LAST-MODIFIED:20251223T071944Z
UID:19958-1762246800-1762264800@disnaker.slemankab.go.id
SUMMARY:Narasumber Sosialisasi Peluang dan Tenaga Kerja di SMK Bina Harapan Sleman
DESCRIPTION:Narasumber Sosialisasi Peluang dan Tenaga Kerja di SMK Bina Harapan Sleman
URL:https://disnaker.slemankab.go.id/event/narasumber-sosialisasi-peluang-dan-tenaga-kerja-di-smk-bina-harapan-sleman/
END:VEVENT
END:VCALENDAR