BEGIN:VCALENDAR
VERSION:2.0
PRODID:-//DINAS TENAGA KERJA - ECPv6.15.11//NONSGML v1.0//EN
CALSCALE:GREGORIAN
METHOD:PUBLISH
X-WR-CALNAME:DINAS TENAGA KERJA
X-ORIGINAL-URL:https://disnaker.slemankab.go.id
X-WR-CALDESC:Events for DINAS TENAGA KERJA
REFRESH-INTERVAL;VALUE=DURATION:PT1H
X-Robots-Tag:noindex
X-PUBLISHED-TTL:PT1H
BEGIN:VTIMEZONE
TZID:Asia/Krasnoyarsk
BEGIN:STANDARD
TZOFFSETFROM:+0700
TZOFFSETTO:+0700
TZNAME:+07
DTSTART:20240101T000000
END:STANDARD
END:VTIMEZONE
BEGIN:VEVENT
DTSTART;TZID=Asia/Krasnoyarsk:20250701T093000
DTEND;TZID=Asia/Krasnoyarsk:20250701T110000
DTSTAMP:20260426T092017
CREATED:20250822T063605Z
LAST-MODIFIED:20250822T063605Z
UID:19103-1751362200-1751367600@disnaker.slemankab.go.id
SUMMARY:Pembukaan Pelatihan bidang tataboga tahun 2025 sekaligus sebagai narasumber di LPK Kayumanis Saren Sumberrahayu Moyudan Sleman.
DESCRIPTION:Pembukaan Pelatihan bidang tataboga tahun 2025 sekaligus sebagai narasumber di LPK Kayumanis Saren Sumberrahayu Moyudan Sleman.
URL:https://disnaker.slemankab.go.id/event/pembukaan-pelatihan-bidang-tataboga-tahun-2025-sekaligus-sebagai-narasumber-di-lpk-kayumanis-saren-sumberrahayu-moyudan-sleman/
END:VEVENT
END:VCALENDAR